BEGIN:VCALENDAR
VERSION:2.0
PRODID:-//wp-events-plugin.com//6.6.3//EN
TZID:Europe/Berlin
X-WR-TIMEZONE:Europe/Berlin
BEGIN:VEVENT
UID:147@schweizergesellschaft.at
DTSTART;TZID=Europe/Berlin:20250729T190000
DTEND;TZID=Europe/Berlin:20250729T220000
DTSTAMP:20250606T114308Z
URL:https://www.schweizergesellschaft.at/veranstaltungen/zischtig-jass-jas
 sabend/
SUMMARY:Zischtig-Jass (Jassabend)
DESCRIPTION:Es spricht sich herum: "Jasse isch luschtig und giit gueti Luun
 e"! Deshalb erwarten wir auch zum nächsten Termin nicht nur die "Stammspi
 elerinnen und -spieler" sondern auch neue spielfreudige Mitglieder. Ob Anf
 änger oder versierte Jasserinnen\, es kommen alle auf ihre Kosten! Anmeld
 ung bis 25. Juli an vorstand@schweizergesellschaft.at oder unter Tel. 0677
  648 00 531. Bitte an die Jasserinnen und Jasser\, die vorher noch essen m
 öchten\, sich ab 18:00 Uhr im Restaurant einzufinden\, damit wir pünktli
 ch um 19 Uhr beginnen können.
LOCATION:Restaurant Zum Kuckuck\, Himmelpfortgasse 15\, Wien\, Wien\, 1010\
 , Österreich
X-APPLE-STRUCTURED-LOCATION;VALUE=URI;X-ADDRESS=Himmelpfortgasse 15\, Wien\
 , Wien\, 1010\, Österreich;X-APPLE-RADIUS=100;X-TITLE=Restaurant Zum Kuck
 uck:geo:0,0
END:VEVENT
BEGIN:VTIMEZONE
TZID:Europe/Berlin
X-LIC-LOCATION:Europe/Berlin
BEGIN:DAYLIGHT
DTSTART:20250330T030000
TZOFFSETFROM:+0100
TZOFFSETTO:+0200
TZNAME:CEST
END:DAYLIGHT
END:VTIMEZONE
END:VCALENDAR