BEGIN:VCALENDAR
VERSION:2.0
PRODID:-//wp-events-plugin.com//6.6.3//EN
TZID:Europe/Berlin
X-WR-TIMEZONE:Europe/Berlin
BEGIN:VEVENT
UID:172@schweizergesellschaft.at
DTSTART;TZID=Europe/Berlin:20260428T190000
DTEND;TZID=Europe/Berlin:20260428T210000
DTSTAMP:20260414T084746Z
URL:https://www.schweizergesellschaft.at/veranstaltungen/zischtig-jass-4/
SUMMARY:Zischtig-Jass
DESCRIPTION:Unser Jassend erfreut sich großer Beliebtheit! Treffen wie imm
 er im Restaurant "Zum Kuckuck" in der Himmelpfortgasse 15\, 1010 Wien. Anm
 eldung bis 25. April an (neu): michael.balzer@schweizergesellschaft.at ode
 r unter Tel. 0677 648 00 531. Bitte an die Jasserinnen und Jasser\, die vo
 rher noch essen möchten\, sich früher einzufinden\, damit wir um 19 Uhr 
 beginnen können.
LOCATION:Restaurant Zum Kuckuck\, Himmelpfortgasse 15\, Wien\, Wien\, 1010\
 , Österreich
X-APPLE-STRUCTURED-LOCATION;VALUE=URI;X-ADDRESS=Himmelpfortgasse 15\, Wien\
 , Wien\, 1010\, Österreich;X-APPLE-RADIUS=100;X-TITLE=Restaurant Zum Kuck
 uck:geo:0,0
END:VEVENT
BEGIN:VTIMEZONE
TZID:Europe/Berlin
X-LIC-LOCATION:Europe/Berlin
BEGIN:DAYLIGHT
DTSTART:20260329T030000
TZOFFSETFROM:+0100
TZOFFSETTO:+0200
TZNAME:CEST
END:DAYLIGHT
END:VTIMEZONE
END:VCALENDAR