BEGIN:VCALENDAR
VERSION:2.0
PRODID:-//wp-events-plugin.com//6.6.3//EN
TZID:Europe/Berlin
X-WR-TIMEZONE:Europe/Berlin
BEGIN:VEVENT
UID:165@schweizergesellschaft.at
DTSTART;TZID=Europe/Berlin:20260224T190000
DTEND;TZID=Europe/Berlin:20260224T210000
DTSTAMP:20260216T095526Z
URL:https://www.schweizergesellschaft.at/veranstaltungen/zischtig-jass-3/
SUMMARY:Zischtig-Jass
DESCRIPTION:Es heißt weiter "Stöck\, Wiis\, Stich"\, wie immer im Restaur
 ant "Zum Kuckuck" in der Himmelpfortgasse 15\, 1010 Wien. Wer am 27. Janua
 r nicht konnte\, hat also nochmals die Gelegenheit zu einem fröhlichen "J
 ass". Bitte um Anmeldung bis 21. Februar 2026 vorzugsweise an: vorstand@sc
 hweizergesellschaft.at oder unter Tel. 0677 648 00 531.
LOCATION:Restaurant Zum Kuckuck\, Himmelpfortgasse 15\, Wien\, Wien\, 1010\
 , Österreich
X-APPLE-STRUCTURED-LOCATION;VALUE=URI;X-ADDRESS=Himmelpfortgasse 15\, Wien\
 , Wien\, 1010\, Österreich;X-APPLE-RADIUS=100;X-TITLE=Restaurant Zum Kuck
 uck:geo:0,0
END:VEVENT
BEGIN:VTIMEZONE
TZID:Europe/Berlin
X-LIC-LOCATION:Europe/Berlin
BEGIN:STANDARD
DTSTART:20251026T020000
TZOFFSETFROM:+0200
TZOFFSETTO:+0100
TZNAME:CET
END:STANDARD
END:VTIMEZONE
END:VCALENDAR