BEGIN:VCALENDAR
VERSION:2.0
PRODID:-//wp-events-plugin.com//6.6.3//EN
TZID:Europe/Berlin
X-WR-TIMEZONE:Europe/Berlin
BEGIN:VEVENT
UID:162@schweizergesellschaft.at
DTSTART;TZID=Europe/Berlin:20260127T190000
DTEND;TZID=Europe/Berlin:20260127T210000
DTSTAMP:20251221T131103Z
URL:https://www.schweizergesellschaft.at/veranstaltungen/zischtig-jass-2/
SUMMARY:Zischtig-Jass
DESCRIPTION:Und wir machen weiter\, denn "Jassen isch guet und giit guete L
 uune"\, weshalb erfreulicherweise immer wieder neue\, spielfreudige Jasser
 innen und Jasser zum "Kuckuck" kommen. Und  wir betonen\, es sind alle wi
 llkommen\, von Anfängern bis versierten Jasserinnen\, und alle werden Spa
 ss haben! Bitte um Anmeldung bis 23. Januar 2026 vorzugsweise an\nvorstand
 @schweizergesellschaft.at oder unter Tel. 0677 648 00 531. Alle\, die vorh
 er noch essen möchten\,\nsollten sich möglichst um/ab 18:00 Uhr einfinde
 n\, damit wir pünktlich um 19 Uhr beginnen können.
LOCATION:Restaurant Zum Kuckuck\, Himmelpfortgasse 15\, Wien\, Wien\, 1010\
 , Österreich
X-APPLE-STRUCTURED-LOCATION;VALUE=URI;X-ADDRESS=Himmelpfortgasse 15\, Wien\
 , Wien\, 1010\, Österreich;X-APPLE-RADIUS=100;X-TITLE=Restaurant Zum Kuck
 uck:geo:0,0
END:VEVENT
BEGIN:VTIMEZONE
TZID:Europe/Berlin
X-LIC-LOCATION:Europe/Berlin
BEGIN:STANDARD
DTSTART:20251026T020000
TZOFFSETFROM:+0200
TZOFFSETTO:+0100
TZNAME:CET
END:STANDARD
END:VTIMEZONE
END:VCALENDAR