BEGIN:VCALENDAR
VERSION:2.0
PRODID:-//wp-events-plugin.com//6.6.3//EN
TZID:Europe/Berlin
X-WR-TIMEZONE:Europe/Berlin
BEGIN:VEVENT
UID:55@schweizergesellschaft.at
DTSTART;TZID=Europe/Berlin:20221204T150000
DTEND;TZID=Europe/Berlin:20221204T180000
DTSTAMP:20221201T124100Z
URL:https://www.schweizergesellschaft.at/veranstaltungen/weihnachtsfeier-d
 er-samichlaus-kommt/
SUMMARY:Der "Samichlaus" kommt...
DESCRIPTION:Es war gar nicht so einfach\, den Samichlaus zu überreden\, no
 ch einmal den weiten Weg mit dem Rentier-Schlitten aus der Schweiz nach Wi
 en auf sich zu nehmen. Er sagte dann doch zu\, meinte aber\, er würde es 
 am liebsten wieder so machen\, wie beim letzten Mal\, weil es so schön un
 d stimmungsvoll und auch unkompliziert war. Wer kann dem Samichlaus widers
 prechen? Also findet der "Samichlaus" 2022 doch wieder "OUTDOOR" statt und
  nicht im Clublokal!\nDe Samichlaus chunt\nam Sonntag\, 4. Dezember 2022\,
  zwischen 15:00 und 18:00 Uhr und wartet vor dem Restaurant "Chamäleon" 
 in der Blutgasse 3\, 1010 Wien\n\nauf unsere Kinder\, die vorbei kommen un
 d vom Samichlaus ein "Chlaussäckli" abholen wollen. Auch für die Eltern 
 hat er etwas dabei - natürlich nur\, wenn sie brav waren! Und weil es die
 ses Jahr zum Glück nicht so streng ist mit den Regeln\, gibt es auch eine
 n guten Punsch und die traditionellen "Wienerli"\, damit niemand hungrig o
 der durstig weggehen muss.\n\nWichtig: Bitte unbedingt vorher anmelden und
  die Namen aller Kinder (mit Alter) und Erwachsenen angeben\, damit der Sa
 michlaus weiß\, wie viele "Säckli" er einpacken muss! Bitte deshalb ein 
 Email mit diesen Angaben bis spätestens 30. November 2022 (oder allerspä
 testens bis 2.12.2022 um 12:00 Uhr) an unsere Email: vorstand@schweizerge
 sellschaft.at.
LOCATION:Restaurant Chamäleon\, Blutgasse 3\, Wien\, 1010\, Österreich
X-APPLE-STRUCTURED-LOCATION;VALUE=URI;X-ADDRESS=Blutgasse 3\, Wien\, 1010\,
  Österreich;X-APPLE-RADIUS=100;X-TITLE=Restaurant Chamäleon:geo:0,0
END:VEVENT
BEGIN:VTIMEZONE
TZID:Europe/Berlin
X-LIC-LOCATION:Europe/Berlin
BEGIN:STANDARD
DTSTART:20221030T020000
TZOFFSETFROM:+0200
TZOFFSETTO:+0100
TZNAME:CET
END:STANDARD
END:VTIMEZONE
END:VCALENDAR