BEGIN:VCALENDAR
VERSION:2.0
PRODID:-//wp-events-plugin.com//6.6.3//EN
TZID:Europe/Berlin
X-WR-TIMEZONE:Europe/Berlin
BEGIN:VEVENT
UID:35@schweizergesellschaft.at
DTSTART;TZID=Europe/Berlin:20200628T140000
DTEND;TZID=Europe/Berlin:20200628T190000
DTSTAMP:20200528T174316Z
URL:https://www.schweizergesellschaft.at/veranstaltungen/wanderung-auf-den
 -nussberg/
SUMMARY:Wanderung auf den Nussberg
DESCRIPTION:Wanderung auf den Nussberg (Nussdorf - Kahlenberg)
LOCATION:Wien\, Nussberg\, Wien\, 1190\, Nußdorf\, Österreich
GEO:48.26666669999999;16.35
X-APPLE-STRUCTURED-LOCATION;VALUE=URI;X-ADDRESS=Nussberg\, Wien\, 1190\, Nu
 ßdorf\, Österreich;X-APPLE-RADIUS=100;X-TITLE=Wien:geo:48.26666669999999
 ,16.35
END:VEVENT
BEGIN:VTIMEZONE
TZID:Europe/Berlin
X-LIC-LOCATION:Europe/Berlin
BEGIN:DAYLIGHT
DTSTART:20200329T030000
TZOFFSETFROM:+0100
TZOFFSETTO:+0200
TZNAME:CEST
END:DAYLIGHT
END:VTIMEZONE
END:VCALENDAR