BEGIN:VCALENDAR
VERSION:2.0
PRODID:-//wp-events-plugin.com//6.6.3//EN
TZID:Europe/Berlin
X-WR-TIMEZONE:Europe/Berlin
BEGIN:VEVENT
UID:42@schweizergesellschaft.at
DTSTART;TZID=Europe/Berlin:20211003T130000
DTEND;TZID=Europe/Berlin:20211003T200000
DTSTAMP:20210924T080720Z
URL:https://www.schweizergesellschaft.at/veranstaltungen/wanderung-am-sonn
 tag-3-oktober-2021/
SUMMARY:Wanderung über die Weinberge am Neusiedlers
DESCRIPTION:Für diese Wanderung treffen wir uns pünktlich um 13:00 Uhr be
 im Hauptbahnhof und fahren mit der S-Bahn in Richtung Neusiedlersee. Wir s
 tarten beim Bahnhof in Jois und gehen durch den Ort zu den Weinrieden\, wo
  wir auf einem gemütlichen Wanderweg den Tannenberg umrunden und auf den 
 199 Meter "hohen" Hackersberg steigen\, der eine vielfältige Vegetation u
 nd eine prächtige Fernsicht über den Neusiedlersee bietet. Nach kräftig
 em\, aber kurzem Abstieg gelangen wir nach Winden\, wo eine erste Rast in 
 der kleinen\, hübschen Kellergasse geplant ist. Gestärkt geht es auf ein
 em ausichtsreichen Weg zurück zum Ausgangsort - mit einem abschließenden
  "Einkehrschwung" bei einem Heurigen oder Gasthof\, bevor es vom nahen Bah
 nhof mit der S-Bahn zurück nach Wien geht. Details im Rundschreiben. Anme
 ldung mit Namen aller Teilnehmer/innen unbedingt erforderlich  - bitte bi
 s 26.9.2021 an: vorstand@schweizergesellschaft.at.
END:VEVENT
BEGIN:VTIMEZONE
TZID:Europe/Berlin
X-LIC-LOCATION:Europe/Berlin
BEGIN:DAYLIGHT
DTSTART:20210328T030000
TZOFFSETFROM:+0100
TZOFFSETTO:+0200
TZNAME:CEST
END:DAYLIGHT
END:VTIMEZONE
END:VCALENDAR