BEGIN:VCALENDAR
VERSION:2.0
PRODID:-//wp-events-plugin.com//6.6.3//EN
TZID:Europe/Berlin
X-WR-TIMEZONE:Europe/Berlin
BEGIN:VEVENT
UID:22@schweizergesellschaft.at
DTSTART;TZID=Europe/Berlin:20180925T190000
DTEND;TZID=Europe/Berlin:20180925T210000
DTSTAMP:20180909T092247Z
URL:https://www.schweizergesellschaft.at/veranstaltungen/vortrag-zum-darkn
 et/
SUMMARY:Vortrag zum Darknet
DESCRIPTION:Otto Hostettler - ist seit 25 Jahren hauptberuflich im Journali
 smus tätig\, seit 2007 arbeitet er als Redaktor/Reporter beim "Beobachter
 " und erhielt 2011 den Zürcher Journalistenpreis für Artikel über das S
 chicksal von Verding- und Heimkindern. 2016 schloss Otto Hostettler an der
  Hochschule Luzern einen MAS in Economic Crime Investigation ab.\n\nEr ist
  Mitgründer des Schweizer Recherchennetzwerks "investigativ.ch" sowie Co-
 Präsident der Recherchenplattform "lobbywatch.ch" . Zudem unterrichtet er
  Recherche bei Schweizer Radio und Fernsehen SRF. 2017 erschien sein Buch 
 "Darknet". Für dieses Buch recherchierte der Journalist Otto Hostettler i
 nvestigativ monatelang im Darknet und interviewte zahlreiche Cybercrime-Sp
 ezialisten\, IT-Experten und Onlinehändler.\n\nMit seinem Buch liefert er
  eine umfassende Analyse dieses neuen kriminalistischen Phänomens - und d
 en dringend benötigten Weckruf für Internetnutzer\, Eltern\, Lehrpersone
 n und Ermittler! Es wird ein äusserst spannender Abend.\n\nBitte melden S
 ie sich an: Namen\, Telefonnummer und Anzahl der Personen auf unserem Anru
 fbeantworter unter Tel. 01/512 62 22 (bitte langsam und deutlich sprechen!
 ) oder per e-mail an vorstand@schweizergesellschaft.at.\nWir freuen uns au
 f Ihre Anmeldungen!
ATTACH;FMTTYPE=image/jpeg:https://www.schweizergesellschaft.at/wp-content/
 uploads/2018/08/darknet.jpg
LOCATION:Clublokal\, Schwindgasse 20\, Wien\, 1040\, Österreich
GEO:48.1969687;16.37222040000006
X-APPLE-STRUCTURED-LOCATION;VALUE=URI;X-ADDRESS=Schwindgasse 20\, Wien\, 10
 40\, Österreich;X-APPLE-RADIUS=100;X-TITLE=Clublokal:geo:48.1969687,16.37
 222040000006
END:VEVENT
BEGIN:VTIMEZONE
TZID:Europe/Berlin
X-LIC-LOCATION:Europe/Berlin
BEGIN:DAYLIGHT
DTSTART:20180325T030000
TZOFFSETFROM:+0100
TZOFFSETTO:+0200
TZNAME:CEST
END:DAYLIGHT
END:VTIMEZONE
END:VCALENDAR