BEGIN:VCALENDAR
VERSION:2.0
PRODID:-//wp-events-plugin.com//6.6.3//EN
TZID:Europe/Berlin
X-WR-TIMEZONE:Europe/Berlin
BEGIN:VEVENT
UID:125@schweizergesellschaft.at
DTSTART;TZID=Europe/Berlin:20250407T183000
DTEND;TZID=Europe/Berlin:20250407T203000
DTSTAMP:20250210T160520Z
URL:https://www.schweizergesellschaft.at/veranstaltungen/vortrag-ueber-bed
 rohungen-durch-hacker-und-cyberkriminaliaet/
SUMMARY:Vortrag über Bedrohungen durch Hacker und Cyberkriminaliät
DESCRIPTION:Der bekannte Schweizer Journalist und Autor Otto Hostettler\, d
 er bei uns bereits einmal einen Vortrag über das "Darknet" hielt\, inform
 iert über ein Thema\, das hochaktuell ist. Details folgen im April-Rundsc
 hreiben.
LOCATION:Schweizer Gesellschaft Wien - Clublokal\, Schwindgasse 20\, Wien\,
  1040\, Österreich
X-APPLE-STRUCTURED-LOCATION;VALUE=URI;X-ADDRESS=Schwindgasse 20\, Wien\, 10
 40\, Österreich;X-APPLE-RADIUS=100;X-TITLE=Schweizer Gesellschaft Wien - 
 Clublokal:geo:0,0
END:VEVENT
BEGIN:VTIMEZONE
TZID:Europe/Berlin
X-LIC-LOCATION:Europe/Berlin
BEGIN:DAYLIGHT
DTSTART:20250330T030000
TZOFFSETFROM:+0100
TZOFFSETTO:+0200
TZNAME:CEST
END:DAYLIGHT
END:VTIMEZONE
END:VCALENDAR