BEGIN:VCALENDAR
VERSION:2.0
PRODID:-//wp-events-plugin.com//6.6.3//EN
TZID:Europe/Berlin
X-WR-TIMEZONE:Europe/Berlin
BEGIN:VEVENT
UID:62@schweizergesellschaft.at
DTSTART;TZID=Europe/Berlin:20221201T183000
DTEND;TZID=Europe/Berlin:20221201T203000
DTSTAMP:20221103T112115Z
URL:https://www.schweizergesellschaft.at/veranstaltungen/vorsorgevollmacht
 -patientenverfuegung-testament-vortrag/
SUMMARY:Vorsorgevollmacht - Patientenverfügung - Testament (Vortrag)
DESCRIPTION:Michael Pérez\, "der" Schweizer Rechtsanwalt in Wien (und nebe
 namtlich unser Schriftführer) wird uns im Rahmen eines Vortrags über die
 se drei ernsten\, aber wichtigen Themen informieren.\nEin plötzlicher Unf
 all\, eine Krankheit\, ein Aufenthalt auf der Intensivstation (denken wir 
 an "Corona") und schon können wichtige Entscheidungen nicht mehr selbst g
 etroffen werden. Alltägliche\, aber auch nicht aufschiebbaren Geschäfte 
 (Miete\, Rechnungen) oder auch geschäftlichen Entscheidungen bleiben lieg
 en\, wenn keine "Vorsorgevollmacht" für solche Notfälle existiert! Ähnl
 ich wichtig ist eine"Patientenverfügung" für den Fall des Verlusts der e
 igenen Entscheidungsfähigkeit (z.B. bei Bewusstlosigkeit oder Koma durch 
 Unfall oder Operation)\, um das Recht auf Selbstbestimmung abzusichern. Un
 d wie wichtig ein ordentliches "Testament" ist\, dürfte allen klar sein.
  Im Rahmen dieses kostenlose Vortrags werden fundierte rechtliche Informa
 tionen von einem Experten vermittelt! Im Anschluss laden wir unsere Mitgli
 eder zum Apéro. Wir bitten um verbindliche Anmeldung  bis 28. November m
 it dem Stichwort "Vortrag" per Email an vorstand@schweizergesellschaft.at
  oder telefonisch unter Tel. 0677 648 00 531 (temporäre Telefonnummer nu
 r für diese Veranstaltungen).
LOCATION:Schweizer Gesellschaft Wien - Clublokal\, Schwindgasse 20\, Wien\,
  1040\, Österreich
X-APPLE-STRUCTURED-LOCATION;VALUE=URI;X-ADDRESS=Schwindgasse 20\, Wien\, 10
 40\, Österreich;X-APPLE-RADIUS=100;X-TITLE=Schweizer Gesellschaft Wien - 
 Clublokal:geo:0,0
END:VEVENT
BEGIN:VTIMEZONE
TZID:Europe/Berlin
X-LIC-LOCATION:Europe/Berlin
BEGIN:STANDARD
DTSTART:20221030T020000
TZOFFSETFROM:+0200
TZOFFSETTO:+0100
TZNAME:CET
END:STANDARD
END:VTIMEZONE
END:VCALENDAR