BEGIN:VCALENDAR
VERSION:2.0
PRODID:-//wp-events-plugin.com//6.6.3//EN
TZID:Europe/Berlin
X-WR-TIMEZONE:Europe/Berlin
BEGIN:VEVENT
UID:112@schweizergesellschaft.at
DTSTART;TZID=Europe/Berlin:20241114T190000
DTEND;TZID=Europe/Berlin:20241114T220000
DTSTAMP:20241025T170612Z
URL:https://www.schweizergesellschaft.at/veranstaltungen/vorankuendigung-k
 onzert-hildegard-knef/
SUMMARY:Konzert "Hommage an Hildegard Knef"
DESCRIPTION:Brigitte Stradiot ist Schweizerin\, Gesangspädagogin und ehem.
  Professorin für Gesang an der Universität für Musik und darstellende K
 unst in Wien. Sie ist aber auch als Sängerin erfolgreich: Erst kürzlich 
 wurde Brigitte Stradiot Preisträgerin beim Chanson-Wettbewerb in Berlin. 
 Mit ihrer Band (Georg Greif: Klavier Arrangement\, Georg Schmelzer-Ziringe
 r: Bass\, Alfred Bäck: Schlagzeug) verwandelt sie unser Clublokal in eine
 n Konzertsaal und präsentiert ein auch für Wien seltenes Programm: Zeitl
 ose Songs\, Bekanntes und weniger Bekanntes aus dem Repertoire der unverge
 sslichen Hildegard Knef. Anschließend gemütliches Beisammensein beim Ap
 éro. Eintritt: Freie Spende (empf. 10 €\, aber es darf auch mehr sein!)
 . Anmeldung an Tel: 0677 648 00 531 oder vorstand@schweizergesellschaft.a
 t\,
LOCATION:Schweizer Gesellschaft Wien - Clublokal\, Schwindgasse 20\, Wien\,
  1040\, Österreich
X-APPLE-STRUCTURED-LOCATION;VALUE=URI;X-ADDRESS=Schwindgasse 20\, Wien\, 10
 40\, Österreich;X-APPLE-RADIUS=100;X-TITLE=Schweizer Gesellschaft Wien - 
 Clublokal:geo:0,0
END:VEVENT
BEGIN:VTIMEZONE
TZID:Europe/Berlin
X-LIC-LOCATION:Europe/Berlin
BEGIN:STANDARD
DTSTART:20241027T020000
TZOFFSETFROM:+0200
TZOFFSETTO:+0100
TZNAME:CET
END:STANDARD
END:VTIMEZONE
END:VCALENDAR