BEGIN:VCALENDAR
VERSION:2.0
PRODID:-//wp-events-plugin.com//6.6.3//EN
TZID:Europe/Berlin
X-WR-TIMEZONE:Europe/Berlin
BEGIN:VEVENT
UID:90@schweizergesellschaft.at
DTSTART;TZID=Europe/Berlin:20231210T140000
DTEND;TZID=Europe/Berlin:20231210T180000
DTSTAMP:20231204T113858Z
URL:https://www.schweizergesellschaft.at/veranstaltungen/vom-zentralfriedh
 of-zum-schloss-neugebaeude-spaziergang/
SUMMARY:Vom Zentralfriedhof zum Schloss Neugebäude (Spaziergang)
DESCRIPTION:Am Sonntag\, 10. Dezember 2023\, machen wir einen Spaziergang 
 vom Wiener Zentralfriedhof zum "Weihnachtsdorf" im Schloss Neugebäude. Tr
 effpunkt ist um 14:00 Uhr\, vor dem Tor 2 (Haupttor) des Zentralfriedhofs.
  Der 1874 eröffnete größte Friedhof Europas hat eine Fülle an Geschich
 ten\, Natur und Kultur und - vor allem - eine besondere Atmosphäre zu bie
 ten. Wir werden einige Bereiche begehen. Je nach Wetter und Kondition werd
 en wir 1 -  1 1/2 Stunden dort sein und (bei Bedarf) nach einer kleinen P
 ause weiter zum versteckt liegenden Weihnachtsdorf im Schloss Neugebäude 
 gehen\, um den Nachmittag bei einem Glas Punsch oder Glühwein zu beenden.
  Treffpunkt ist um 14:00 Uhr das Tor 2 des Zentralfriedhofs\, erreichbar m
 it der Straßenbahnlinie 71 oder 11 (von U3 / S-Bahn Simmering. Zurück vo
 m Schloss Neugebäude führt der Autobus 73A bis Simmering (U3/S-Bahn). An
 meldung bis 6. Dezember vorzugsweise an  Email: vorstand@schweizergesells
 chaft.at oder Telefon 0677 648 00 531.
LOCATION:Zentralfriedhof\, Simmeringer Hauptstraße 230 - 244\, Wien\, 1110
 \, Österreich
X-APPLE-STRUCTURED-LOCATION;VALUE=URI;X-ADDRESS=Simmeringer Hauptstraße 23
 0 - 244\, Wien\, 1110\, Österreich;X-APPLE-RADIUS=100;X-TITLE=Zentralfrie
 dhof:geo:0,0
END:VEVENT
BEGIN:VTIMEZONE
TZID:Europe/Berlin
X-LIC-LOCATION:Europe/Berlin
BEGIN:STANDARD
DTSTART:20231029T020000
TZOFFSETFROM:+0200
TZOFFSETTO:+0100
TZNAME:CET
END:STANDARD
END:VTIMEZONE
END:VCALENDAR