BEGIN:VCALENDAR
VERSION:2.0
PRODID:-//wp-events-plugin.com//6.6.3//EN
TZID:Europe/Berlin
X-WR-TIMEZONE:Europe/Berlin
BEGIN:VEVENT
UID:31@schweizergesellschaft.at
DTSTART;TZID=Europe/Berlin:20190801T190000
DTEND;TZID=Europe/Berlin:20190801T190000
DTSTAMP:20190706T085040Z
URL:https://www.schweizergesellschaft.at/veranstaltungen/schweizer-bundesf
 eier-2019/
SUMMARY:Schweizer Bundesfeier 2019
DESCRIPTION:Programm\n19:00 Uhr: Apéro\, offeriert von der Schweizerischen
  Botschaft in Österreich\n\n19:30 Uhr: Begrüßung durch Anita Gut\, Prä
 sidentin der Schweizer Gesellschaft Wien\nGrussadresse eines Vertreters de
 r Schweizer Botschaft\nAnschließend Buffet\n\n22:00 Uhr: Schweizer Psalm\
 n\nHier finden Sie die komplette Einladung (pdf).\nUm Voranmeldung wird ge
 beten\nDa der Platz beschränkt ist\, bitten wir um verbindliche Anmeldung
  bis zum 25.Juli 2019 auf unserem Anrufbeantworter unter 01 512 62 62 ode
 r per Mail an vorstand@schweizergesellschaft.at.\nBitte unbedingt Personen
 anzahl bekannt geben!\nBeitrag bei Vorauszahlung bis 25. Juli 2018\nErwach
 sene Mitglieder Euro 26\,-\nNichtmitglieder Euro 32\,-\nKinder bis 6 Jahre
  gratis\, 6-15 Jahre Euro 15\,-\nAbendkasse\nErwachsene Mitglieder Euro 35
 \,-\nNichtmitglieder Euro 45\,-\nKinder bis 6 Jahre gratis\, 6-15 Jahre Eu
 ro 15\,-\n\nDer Eintrittspreis für die 1. Augustfeier beinhaltet Apéro u
 nd Buffet. Für die zum Essen konsumierten Getränke kommt jeder selbst au
 f.\nWir bitten Sie\, den entsprechenden Betrag im Voraus zu überweisen. G
 anz besonders freuen wir uns über jede Spende!
LOCATION:Meierei im Prater\, Hauptallee 3\, Wien\, 1020\, Österreich
GEO:48.21364089999999;16.399640500000032
X-APPLE-STRUCTURED-LOCATION;VALUE=URI;X-ADDRESS=Hauptallee 3\, Wien\, 1020\
 , Österreich;X-APPLE-RADIUS=100;X-TITLE=Meierei im Prater:geo:48.21364089
 999999,16.399640500000032
END:VEVENT
BEGIN:VTIMEZONE
TZID:Europe/Berlin
X-LIC-LOCATION:Europe/Berlin
BEGIN:DAYLIGHT
DTSTART:20190331T030000
TZOFFSETFROM:+0100
TZOFFSETTO:+0200
TZNAME:CEST
END:DAYLIGHT
END:VTIMEZONE
END:VCALENDAR