BEGIN:VCALENDAR
VERSION:2.0
PRODID:-//wp-events-plugin.com//6.6.3//EN
TZID:Europe/Berlin
X-WR-TIMEZONE:Europe/Berlin
BEGIN:VEVENT
UID:7@schweizergesellschaft.at
DTSTART;TZID=Europe/Berlin:20160801T190000
DTEND;TZID=Europe/Berlin:20160801T190000
DTSTAMP:20161220T205316Z
URL:https://www.schweizergesellschaft.at/veranstaltungen/schweizer-bundesf
 eier-2016/
SUMMARY:Schweizer Bundesfeier 2016
DESCRIPTION:Schweizer Bundesfeier 2016 im Restaurant Lindwurm.
LOCATION:Restaurant Lindwurm\, Ghelengasse 44\, Wien\, 1130\, Österreich
GEO:48.1791025;16.255228699999975
X-APPLE-STRUCTURED-LOCATION;VALUE=URI;X-ADDRESS=Ghelengasse 44\, Wien\, 113
 0\, Österreich;X-APPLE-RADIUS=100;X-TITLE=Restaurant Lindwurm:geo:48.1791
 025,16.255228699999975
END:VEVENT
BEGIN:VTIMEZONE
TZID:Europe/Berlin
X-LIC-LOCATION:Europe/Berlin
BEGIN:DAYLIGHT
DTSTART:20160327T030000
TZOFFSETFROM:+0100
TZOFFSETTO:+0200
TZNAME:CEST
END:DAYLIGHT
END:VTIMEZONE
END:VCALENDAR