BEGIN:VCALENDAR
VERSION:2.0
PRODID:-//wp-events-plugin.com//6.6.3//EN
TZID:Europe/Berlin
X-WR-TIMEZONE:Europe/Berlin
BEGIN:VEVENT
UID:82@schweizergesellschaft.at
DTSTART;TZID=Europe/Berlin:20231006T170000
DTEND;TZID=Europe/Berlin:20231006T200000
DTSTAMP:20230620T131343Z
URL:https://www.schweizergesellschaft.at/veranstaltungen/schlumberger-kell
 erwelten/
SUMMARY:Schlumberger Kellerwelten
DESCRIPTION:Die Veranstaltung im letzten Herbst war ein Volltreffer: Die Be
 sichtigung der Schlumberger-Kellerwelten mit Sekt-Degustation war innerhal
 b kurzer Zeit ausgebucht. Deshalb machen wir das wieder und freuen uns auf
  ein "prickelndes Vergnügen". Details und Anmeldemöglichkeit folgen im H
 erbst mit dem Rundschreiben.
LOCATION:Schlumberger Sektkellerei\, Heiligenstädter Straße 39\, Wien\, W
 ien\, 1190\, Österreich
X-APPLE-STRUCTURED-LOCATION;VALUE=URI;X-ADDRESS=Heiligenstädter Straße 39
 \, Wien\, Wien\, 1190\, Österreich;X-APPLE-RADIUS=100;X-TITLE=Schlumberge
 r Sektkellerei:geo:0,0
END:VEVENT
BEGIN:VTIMEZONE
TZID:Europe/Berlin
X-LIC-LOCATION:Europe/Berlin
BEGIN:DAYLIGHT
DTSTART:20230326T030000
TZOFFSETFROM:+0100
TZOFFSETTO:+0200
TZNAME:CEST
END:DAYLIGHT
END:VTIMEZONE
END:VCALENDAR