BEGIN:VCALENDAR
VERSION:2.0
PRODID:-//wp-events-plugin.com//6.6.3//EN
TZID:Europe/Berlin
X-WR-TIMEZONE:Europe/Berlin
BEGIN:VEVENT
UID:116@schweizergesellschaft.at
DTSTART;TZID=Europe/Berlin:20241025T170000
DTEND;TZID=Europe/Berlin:20241025T193000
DTSTAMP:20241004T081541Z
URL:https://www.schweizergesellschaft.at/veranstaltungen/schlumberger-kell
 erwelten-2/
SUMMARY:Schlumberger Kellerwelten
DESCRIPTION:Wir waren schon dort – und es hat allen so gefallen\, dass wi
 r nochmals die sehenswerten historischen Keller der ältesten Sektkellerei
  Österreichs besuchen und anschließend einige der prickelnden Köstlichk
 eiten degustieren wollen. Treffpunkt um 17:00 Uhr im Foyer der Sektkellere
 i Schlumberger\, 1190 Wien\, Heiligenstädter Straße 39. Anfahrt mit ÖV:
  U4/U6 Station Spittelau oder Tramlinie D\, Station Radelmayergasse\, und 
 dann ein paar Schritte stadtauswärts bis zum gelben Gebäude gehen. Teiln
 ahmegebühr: € 15\,-- (ermäßigter Preis\, wird vor Ort eingehoben). Be
 grenzte Teilnehmerzahl\, deshalb bitte um baldige Anmeldung\, spätestens 
 bis 20. Oktober\, unter Angabe von Namen und Anzahl Personen und Stichwort
  „Schlumberger" an Email: vorstand@schweizergesellschaft.at oder Tel. 06
 77 648 00 531 (Anrufbeantworter).
LOCATION:Schlumberger Sektkellerei\, Heiligenstädter Straße 39\, Wien\, W
 ien\, 1190\, Österreich
X-APPLE-STRUCTURED-LOCATION;VALUE=URI;X-ADDRESS=Heiligenstädter Straße 39
 \, Wien\, Wien\, 1190\, Österreich;X-APPLE-RADIUS=100;X-TITLE=Schlumberge
 r Sektkellerei:geo:0,0
END:VEVENT
BEGIN:VTIMEZONE
TZID:Europe/Berlin
X-LIC-LOCATION:Europe/Berlin
BEGIN:DAYLIGHT
DTSTART:20240331T030000
TZOFFSETFROM:+0100
TZOFFSETTO:+0200
TZNAME:CEST
END:DAYLIGHT
END:VTIMEZONE
END:VCALENDAR