BEGIN:VCALENDAR
VERSION:2.0
PRODID:-//wp-events-plugin.com//6.6.3//EN
TZID:Europe/Berlin
X-WR-TIMEZONE:Europe/Berlin
BEGIN:VEVENT
UID:164@schweizergesellschaft.at
DTSTART;TZID=Europe/Berlin:20260222T150000
DTEND;TZID=Europe/Berlin:20260222T180000
DTSTAMP:20260216T095232Z
URL:https://www.schweizergesellschaft.at/veranstaltungen/schlittschueele-e
 islaufen-auf-dem-rathausplatz-4/
SUMMARY:“Schlittschüele” - Eislaufen auf dem Rathausplatz
DESCRIPTION:Wir laden unsere großen und kleinen Mitglieder herzlich ein (d
 er Verein übernimmt den Eintritt)\, sich auf dem "Wiener Eistraum"auf gla
 ttes Eis zu begeben. Packt also die Schlittschuhe ein (oder leiht sie Euch
  aus) und genießt gesunde Bewegung an frischer Luft! Treffpunkt für die 
 Eisläufer ist um 15 Uhr beim Zugang von der Ringstraße\, wo die Eintritt
 skarten abgegeben werden. Später\, ab 17 Uhr\, können sich die Sportleri
 nnen und Sportler (oder solche\, die es vielleicht noch werden möchten) i
 m Gasthaus des Eistraums (im 1. Stock über dem Eislaufplatz)\, zusammense
 tzen\, um sich zu stärken und auszutauschen.\nWir bitten um Anmeldung bis
  18. Februar 2026\, unter Angabe von Namen und Anzahl Erwachsenen und Kind
 er (= Jahrgang 2011 und jünger) damit wir die Eintritte reservieren könn
 en\, bitte vorzugsweise per Email an vorstand@schweizergesellschaft.at ode
 r Tel.0677 648 00 531.
LOCATION:1010 Wien\, Rathausplatz\, Rathausplatz\, Wien\, Wien\, 1010\, Wie
 n\, Österreich
X-APPLE-STRUCTURED-LOCATION;VALUE=URI;X-ADDRESS=Rathausplatz\, Wien\, Wien\
 , 1010\, Wien\, Österreich;X-APPLE-RADIUS=100;X-TITLE=1010 Wien\, Rathaus
 platz:geo:0,0
END:VEVENT
BEGIN:VTIMEZONE
TZID:Europe/Berlin
X-LIC-LOCATION:Europe/Berlin
BEGIN:STANDARD
DTSTART:20251026T020000
TZOFFSETFROM:+0200
TZOFFSETTO:+0100
TZNAME:CET
END:STANDARD
END:VTIMEZONE
END:VCALENDAR