BEGIN:VCALENDAR
VERSION:2.0
PRODID:-//wp-events-plugin.com//6.6.3//EN
TZID:Europe/Berlin
X-WR-TIMEZONE:Europe/Berlin
BEGIN:VEVENT
UID:68@schweizergesellschaft.at
DTSTART;TZID=Europe/Berlin:20230305T150000
DTEND;TZID=Europe/Berlin:20230305T180000
DTSTAMP:20230309T132206Z
URL:https://www.schweizergesellschaft.at/veranstaltungen/schlittschueele-e
 islaufen-auf-dem-rathausplatz-2/
SUMMARY:Schlittschüele - Eislaufen auf dem Rathausplatz
DESCRIPTION:Nach dem unterhaltsamen Jass-Abend am 16. Februar und dem gemü
 tlichen "Kafi-Höck" am 22. Februar stehen im März spezielle Aktivitäten
  auf dem Programm: Zuerst das “Schlittschüele” - Eislaufen auf dem R
 athausplatz (Treffpunkt 15 Uhr vor dem Eingang des Wiener Eistraums). Le
 tztes Jahr kam es sehr gut an. Deshalb laden wir unseren großen und klein
 en Mitglieder herzlich ein (der Verein übernimmt den Eintritt)\, sich am 
 letzten Tag des Wiener Eistraums noch einmal auf glattes Eis zu begeben un
 d den Winter aktiv zu verabschieden. Wir bitten um Anmeldung bis 3. März\
 , damit wir die nötige Anzahl Eintritte reservieren können\, per Email a
 n vorstand@schweizergesellschaft.at oder Tel. 0677 648 00 531 unter Angab
 e von Namen\, Anzahl Erwachsene und Kinder und einer Telefonnummer oder Em
 ail.
END:VEVENT
BEGIN:VTIMEZONE
TZID:Europe/Berlin
X-LIC-LOCATION:Europe/Berlin
BEGIN:STANDARD
DTSTART:20221030T020000
TZOFFSETFROM:+0200
TZOFFSETTO:+0100
TZNAME:CET
END:STANDARD
END:VTIMEZONE
END:VCALENDAR