BEGIN:VCALENDAR
VERSION:2.0
PRODID:-//wp-events-plugin.com//6.6.3//EN
TZID:Europe/Berlin
X-WR-TIMEZONE:Europe/Berlin
BEGIN:VEVENT
UID:107@schweizergesellschaft.at
DTSTART;TZID=Europe/Berlin:20240615T150000
DTEND;TZID=Europe/Berlin:20240615T190000
DTSTAMP:20240607T161051Z
URL:https://www.schweizergesellschaft.at/veranstaltungen/public-viewing-ho
 pp-schwiiz-fuer-die-schweizer-nati-an-der-em-2024/
SUMMARY:Public Viewing: „Hopp Schwiiz“ für die Schweizer „Nati“ an
  der EM 2024
DESCRIPTION:Bald startet die Fußball-EM 2024\, für die sich die Schweiz q
 ualifiziert hat. Wir möchten unsere Nationalelf gemeinsam anfeuern\, habe
 n nun aber umgeplant und wollen uns in einer neuen\, sehr originellen Loca
 tion mit großer Leinwand treffen\, dem Gleis//Garten\, Public Food Markt
  in der Eichenstraße 2 in 1120 Wien (beim Margaretengürtel Richtung Bah
 nhof Meidling). Homepage: https://www.gleisgarten.com Wir freuen uns auf v
 iele Schweizfans! An folgenden Terminen spielt unsere National-Elf: Samst
 ag\, 15. Juni\, um 15 Uhr\, gegen Ungarn\, Mittwoch\, 19. Juni\, um 21 Uh
 r\, gegen Schottland\, Sonntag\, 23. Juni um 21 Uhr\, gegen Deutschland -
  und hoffentlich an weiteren Terminen. Offene Veranstaltung\, aber eine 
 Meldung über Facebook (Schweizer Stammtisch) oder unter vorstand@schweize
 rgesellschaft.at\, würde uns helfen\, um abschätzen können\, wie viele 
 etwa kommen.
LOCATION:Gleis//Garten\, Eichenstraße 2\, Wien\, 1120\, Äthiopien
X-APPLE-STRUCTURED-LOCATION;VALUE=URI;X-ADDRESS=Eichenstraße 2\, Wien\, 11
 20\, Äthiopien;X-APPLE-RADIUS=100;X-TITLE=Gleis//Garten:geo:0,0
END:VEVENT
BEGIN:VTIMEZONE
TZID:Europe/Berlin
X-LIC-LOCATION:Europe/Berlin
BEGIN:DAYLIGHT
DTSTART:20240331T030000
TZOFFSETFROM:+0100
TZOFFSETTO:+0200
TZNAME:CEST
END:DAYLIGHT
END:VTIMEZONE
END:VCALENDAR