BEGIN:VCALENDAR
VERSION:2.0
PRODID:-//wp-events-plugin.com//6.6.3//EN
TZID:Europe/Berlin
X-WR-TIMEZONE:Europe/Berlin
BEGIN:VEVENT
UID:19@schweizergesellschaft.at
DTSTART;TZID=Europe/Berlin:20180527T124000
DTEND;TZID=Europe/Berlin:20180527T200400
DTSTAMP:20180514T171007Z
URL:https://www.schweizergesellschaft.at/veranstaltungen/mai-wanderung/
SUMMARY:Mai-Wanderung
DESCRIPTION:Mai-Wanderung:\nPfaffstätten-Gumpoldskirchen am Sonntag\, 27. 
 Mai 2018\nNachdem wir bereits den Westen\, Norden und Osten Wiens „erwan
 dert“ haben\, geht es diesmal unter der Führung unseres „Wanderführe
 rs“ Ivo Dürr mit der Schnellbahn nach Süden bis Pfaffstätten. Von hie
 r aus machen wir eine aussichts- und höhlenreiche Tour\nauf den Pfaffstä
 ttner Kogel mit dem Rudolf Proksch-Haus und der Klesheimwarte (erste Einke
 hrmöglichkeit)\, dann weiter in Richtung Anninger mit der typischen Veget
 ation (Schirmföhren) des südlichen Wienerwalds und schönen Blicken ins 
 Wiener Becken\noder ins Voralpenland. Schlussendlich senkt sich der Weg hi
 nab zum berühmten Weinort Gumpoldskirchen\, wo wir uns in einem der zahlr
 eichen Heurigen stärken\, bevor wir mit der S-Bahn bequem zurück nach Wi
 en fahren.\n\nZeitplan:\n12:40 Treffpunkt im Bahnhof Wien-Mitte (Landstras
 se)\, bitte pünktlich! 12:55 Abfahrt mit der S-Bahn (S3) nach Pfaffstätt
 en\n13:40 Ankunft Bahnhof Pfaffstätten\n13:45 Beginn der Wanderung\n17:15
  ca. Ankunft in Gumpoldskirchen und Einkehr bei einem Heurigen 19:17 Rück
 fahrt mit S-Bahn vom Bahnhof Gumpoldskirchen\n20:04 Ankunft in Wien Mitte 
 (Landstrasse)\n\nCharakteristik: Kein Spaziergang\, aber eher leichte Wand
 erung mit anfänglich stärkerer Steigung zum Pfaffstättner Kogel\, dann 
 aber gemütlicher\, vorwiegend auf Wander- und Waldwegen. Gehdauer 3 bis 3
  1⁄2 Stunden\, ca. 350 Höhenmeter (je nach Tourenvariante).\nAusrüstun
 g: festes Schuhwerk/leichte Wanderschuhe\, ev. Wanderstöcke\, Regenschutz
  (Wanderjacke)\, bei sonnigem Wetter Sonnenschutz und ein Getränk/Wasser 
 für unterwegs\, ev. eine kleine Jause (spez. f. Kinder).\nAchtung: Zecken
 gebiet! Route (leider) für Kinderwagen ungeeignet\, Babys oder Kleinkinde
 r im Traggestell mitnehmen.\n\nDurchführung: ab 5 Teilnehmern (wegen Grup
 penticket). Bei Regenwetter\, Gewitter oder Sturm wird die Wanderung nicht
  durchgeführt.\nKosten für Gruppenticket der S-Bahn pro Person für Hin-
  und Rückfahrt (abhängig von der Teilnehmerzahl): 12 Euro. Bitte beim Tr
 effpunkt bereit halten. Im übrigen freuen wir uns über eine kleine Spend
 e für unser "Säuli".\n\n\n\n\nAnmeldung erbeten bis 22. Mai unter Angabe
  von Namen\, Teilnehmerzahl\, Telefon und Email (Erreichbarkeit!). Anmeldu
 ng an Ivo Dürr\, Email: ivoduerr@a1.net oder Tel. 0699 1908 1024. Bei unk
 larer Wetterlage kann unter dieser Nummer ab 08:30 wegen der Durchführung
  der Wanderung angefragt werden.\n\n\n\n
ATTACH;FMTTYPE=image/jpeg:https://www.schweizergesellschaft.at/wp-content/
 uploads/2018/05/Wanderung_Pfaffstätten.jpg
LOCATION:Treffpunkt Bhf. Wien Mitte-Landstraße\, Wien Mitte-Landstraße\, 
 Wien\, Österreich
GEO:48.2061449;16.38523680000003
X-APPLE-STRUCTURED-LOCATION;VALUE=URI;X-ADDRESS=Wien Mitte-Landstraße\, Wi
 en\, Österreich;X-APPLE-RADIUS=100;X-TITLE=Treffpunkt Bhf. Wien Mitte-Lan
 dstraße:geo:48.2061449,16.38523680000003
END:VEVENT
BEGIN:VTIMEZONE
TZID:Europe/Berlin
X-LIC-LOCATION:Europe/Berlin
BEGIN:DAYLIGHT
DTSTART:20180325T030000
TZOFFSETFROM:+0100
TZOFFSETTO:+0200
TZNAME:CEST
END:DAYLIGHT
END:VTIMEZONE
END:VCALENDAR