BEGIN:VCALENDAR
VERSION:2.0
PRODID:-//wp-events-plugin.com//6.6.3//EN
TZID:Europe/Berlin
X-WR-TIMEZONE:Europe/Berlin
BEGIN:VEVENT
UID:161@schweizergesellschaft.at
DTSTART;TZID=Europe/Berlin:20260120T183000
DTEND;TZID=Europe/Berlin:20260120T203000
DTSTAMP:20251221T130358Z
URL:https://www.schweizergesellschaft.at/veranstaltungen/literaturkreis-le
 sekreis-9/
SUMMARY:Literaturkreis (Lesekreis)
DESCRIPTION:Wir lesen „Eine Frage der Chemie“ von Bonnie Garmus. Wer da
 s Buch gelesen hat\, darüber sprechen\, bzw. diskutieren\nmöchte\, bitt
 e mit Sofie Steller (E-Mail: sofie.steller@hotmail.com) Kontakt aufnehmen.
LOCATION:Schweizer Gesellschaft Wien - Clublokal\, Schwindgasse 20\, Wien\,
  1040\, Österreich
X-APPLE-STRUCTURED-LOCATION;VALUE=URI;X-ADDRESS=Schwindgasse 20\, Wien\, 10
 40\, Österreich;X-APPLE-RADIUS=100;X-TITLE=Schweizer Gesellschaft Wien - 
 Clublokal:geo:0,0
END:VEVENT
BEGIN:VTIMEZONE
TZID:Europe/Berlin
X-LIC-LOCATION:Europe/Berlin
BEGIN:STANDARD
DTSTART:20251026T020000
TZOFFSETFROM:+0200
TZOFFSETTO:+0100
TZNAME:CET
END:STANDARD
END:VTIMEZONE
END:VCALENDAR