BEGIN:VCALENDAR
VERSION:2.0
PRODID:-//wp-events-plugin.com//6.6.3//EN
TZID:Europe/Berlin
X-WR-TIMEZONE:Europe/Berlin
BEGIN:VEVENT
UID:157@schweizergesellschaft.at
DTSTART;TZID=Europe/Berlin:20251106T183000
DTEND;TZID=Europe/Berlin:20251106T210000
DTSTAMP:20251029T105341Z
URL:https://www.schweizergesellschaft.at/veranstaltungen/literaturkreis-le
 sekreis-7/
SUMMARY:Literaturkreis (Lesekreis)
DESCRIPTION:\n\nWir lesen „Neun Fremde“ von Liane Moriarty. Wer das Buc
 h gelesen hat\, darüber sprechen\, bzw. diskutieren möchte\, bitte mit
  Sofie Steller (E-Mail: sofie.steller@hotmail.com) Kontakt aufnehmen. ACHT
 UNG: Ort ist diesmal nicht im Clublokal sondern im Wien Museum am Karlspla
 tz in der Café-Bar "&amp\; Töchter" im 3. Stock!\n\n
LOCATION:Wien Museum\, Karlsplatz \, 1010 Wien\, Österreich
X-APPLE-STRUCTURED-LOCATION;VALUE=URI;X-ADDRESS=Karlsplatz \, 1010 Wien\, 
 Österreich;X-APPLE-RADIUS=100;X-TITLE=Wien Museum:geo:0,0
END:VEVENT
BEGIN:VTIMEZONE
TZID:Europe/Berlin
X-LIC-LOCATION:Europe/Berlin
BEGIN:STANDARD
DTSTART:20251026T020000
TZOFFSETFROM:+0200
TZOFFSETTO:+0100
TZNAME:CET
END:STANDARD
END:VTIMEZONE
END:VCALENDAR