BEGIN:VCALENDAR
VERSION:2.0
PRODID:-//wp-events-plugin.com//6.6.3//EN
TZID:Europe/Berlin
X-WR-TIMEZONE:Europe/Berlin
BEGIN:VEVENT
UID:122@schweizergesellschaft.at
DTSTART;TZID=Europe/Berlin:20250206T183000
DTEND;TZID=Europe/Berlin:20250206T210000
DTSTAMP:20250114T095008Z
URL:https://www.schweizergesellschaft.at/veranstaltungen/literaturkreis-le
 sekreis-2/
SUMMARY:Literaturkreis (Lesekreis)
DESCRIPTION:Im ersten Lesekreis des Neuen Jahres wird das Buch "Griechischs
 tunden" von Han Kang besprochen. Wer interessiert ist\, das Buch gelesen h
 at und mit diskutieren möchte\, meldet sich bitte vorher bei Sarah Jagfel
 d (sarah.jagfeld@gmx.ch)\n\n&nbsp\;
LOCATION:Schweizer Gesellschaft Wien - Clublokal\, Schwindgasse 20\, Wien\,
  1040\, Österreich
X-APPLE-STRUCTURED-LOCATION;VALUE=URI;X-ADDRESS=Schwindgasse 20\, Wien\, 10
 40\, Österreich;X-APPLE-RADIUS=100;X-TITLE=Schweizer Gesellschaft Wien - 
 Clublokal:geo:0,0
END:VEVENT
BEGIN:VTIMEZONE
TZID:Europe/Berlin
X-LIC-LOCATION:Europe/Berlin
BEGIN:STANDARD
DTSTART:20241027T020000
TZOFFSETFROM:+0200
TZOFFSETTO:+0100
TZNAME:CET
END:STANDARD
END:VTIMEZONE
END:VCALENDAR