BEGIN:VCALENDAR
VERSION:2.0
PRODID:-//wp-events-plugin.com//6.6.3//EN
TZID:Europe/Berlin
X-WR-TIMEZONE:Europe/Berlin
BEGIN:VEVENT
UID:173@schweizergesellschaft.at
DTSTART;TZID=Europe/Berlin:20260430T183000
DTEND;TZID=Europe/Berlin:20260430T203000
DTSTAMP:20260414T084857Z
URL:https://www.schweizergesellschaft.at/veranstaltungen/literaturkreis-le
 sekreis-11/
SUMMARY:Literaturkreis (Lesekreis)
DESCRIPTION:Unsere Freundinnen und Freunde der Belletristik werden an diese
 m Donnerstag das Buch „Das Blaue vom Himmel“ von Magdalena Schrefel be
 sprechen. Wer es gelesen hat und darüber sprechen\, bzw. diskutieren mö
 chte\, bitte vorab mit Sofie Steller (Email: sofie.steller@schweizergesell
 schaft.at) Kontakt aufnehmen.
LOCATION:Schweizer Gesellschaft Wien - Clublokal\, Schwindgasse 20\, Wien\,
  1040\, Österreich
X-APPLE-STRUCTURED-LOCATION;VALUE=URI;X-ADDRESS=Schwindgasse 20\, Wien\, 10
 40\, Österreich;X-APPLE-RADIUS=100;X-TITLE=Schweizer Gesellschaft Wien - 
 Clublokal:geo:0,0
END:VEVENT
BEGIN:VTIMEZONE
TZID:Europe/Berlin
X-LIC-LOCATION:Europe/Berlin
BEGIN:DAYLIGHT
DTSTART:20260329T030000
TZOFFSETFROM:+0100
TZOFFSETTO:+0200
TZNAME:CEST
END:DAYLIGHT
END:VTIMEZONE
END:VCALENDAR