BEGIN:VCALENDAR
VERSION:2.0
PRODID:-//wp-events-plugin.com//6.6.3//EN
TZID:Europe/Berlin
X-WR-TIMEZONE:Europe/Berlin
BEGIN:VEVENT
UID:166@schweizergesellschaft.at
DTSTART;TZID=Europe/Berlin:20260304T183000
DTEND;TZID=Europe/Berlin:20260304T203000
DTSTAMP:20260216T095724Z
URL:https://www.schweizergesellschaft.at/veranstaltungen/literaturkreis-le
 sekreis-10/
SUMMARY:Literaturkreis (Lesekreis)
DESCRIPTION:Es wird das Buch „Das gelbe Haus“ von Mieko Kawakami behand
 elt. Wer das Buch liest\, gelesen hat und gerne darüber sprechen\, bzw. d
 iskutieren möchte\, bitte vorab mit Sofie Steller (Email: sofie.steller@s
 chweizergesellschaft.at Kontakt aufnehmen.
LOCATION:Schweizer Gesellschaft Wien - Clublokal\, Schwindgasse 20\, Wien\,
  1040\, Österreich
X-APPLE-STRUCTURED-LOCATION;VALUE=URI;X-ADDRESS=Schwindgasse 20\, Wien\, 10
 40\, Österreich;X-APPLE-RADIUS=100;X-TITLE=Schweizer Gesellschaft Wien - 
 Clublokal:geo:0,0
END:VEVENT
BEGIN:VTIMEZONE
TZID:Europe/Berlin
X-LIC-LOCATION:Europe/Berlin
BEGIN:STANDARD
DTSTART:20251026T020000
TZOFFSETFROM:+0200
TZOFFSETTO:+0100
TZNAME:CET
END:STANDARD
END:VTIMEZONE
END:VCALENDAR