BEGIN:VCALENDAR
VERSION:2.0
PRODID:-//wp-events-plugin.com//6.6.3//EN
TZID:Europe/Berlin
X-WR-TIMEZONE:Europe/Berlin
BEGIN:VEVENT
UID:110@schweizergesellschaft.at
DTSTART;TZID=Europe/Berlin:20240826T183000
DTEND;TZID=Europe/Berlin:20240826T210000
DTSTAMP:20240715T092637Z
URL:https://www.schweizergesellschaft.at/veranstaltungen/literaturkreis-le
 se-kreis/
SUMMARY:Literaturkreis (Lese-Kreis)
DESCRIPTION:Unsere Freundinnen und Freunde der Belletristik werden Buch „
 Das Leben ist die grösstmögliche Ruhestörung“ von Julia Kohli (Schwei
 zer Autorin) besprechen. Wer es gelesen hat und darüber reden\, bzw. disk
 utieren möchte\, bitte vorab Sarah Jagfeld (Email: sarah.jagfeld@gmx.ch) 
 kontaktieren.
LOCATION:Schweizer Gesellschaft Wien - Clublokal\, Schwindgasse 20\, Wien\,
  1040\, Österreich
X-APPLE-STRUCTURED-LOCATION;VALUE=URI;X-ADDRESS=Schwindgasse 20\, Wien\, 10
 40\, Österreich;X-APPLE-RADIUS=100;X-TITLE=Schweizer Gesellschaft Wien - 
 Clublokal:geo:0,0
END:VEVENT
BEGIN:VTIMEZONE
TZID:Europe/Berlin
X-LIC-LOCATION:Europe/Berlin
BEGIN:DAYLIGHT
DTSTART:20240331T030000
TZOFFSETFROM:+0100
TZOFFSETTO:+0200
TZNAME:CEST
END:DAYLIGHT
END:VTIMEZONE
END:VCALENDAR