BEGIN:VCALENDAR
VERSION:2.0
PRODID:-//wp-events-plugin.com//6.6.3//EN
TZID:Europe/Berlin
X-WR-TIMEZONE:Europe/Berlin
BEGIN:VEVENT
UID:86@schweizergesellschaft.at
DTSTART;TZID=Europe/Berlin:20230822T193000
DTEND;TZID=Europe/Berlin:20230822T210000
DTSTAMP:20230710T143116Z
URL:https://www.schweizergesellschaft.at/veranstaltungen/lesekreis-im-club
 lokal/
SUMMARY:Lesekreis im Clublokal
DESCRIPTION:Der Lesekreis unter der Leitung unseres Vorstandsmitglieds (und
  Schriftführerin) Sarah Jagfeld hat sich erfolgreich etabliert. Lesefreud
 ige\, die sich gerne in einer Literaturrunde austauschen möchten\, wenden
  sich bitte rechtzeitig an mailto:sarah.jagfeld@gmx.ch. Das aktuelle Buch\
 , über das gesprochen wird\, heißt "Freundin bleibst du immer" von Tomi
  Obaro.\n\n&nbsp\;
LOCATION:Schweizer Gesellschaft Wien - Clublokal\, Schwindgasse 20\, Wien\,
  1040\, Österreich
X-APPLE-STRUCTURED-LOCATION;VALUE=URI;X-ADDRESS=Schwindgasse 20\, Wien\, 10
 40\, Österreich;X-APPLE-RADIUS=100;X-TITLE=Schweizer Gesellschaft Wien - 
 Clublokal:geo:0,0
END:VEVENT
BEGIN:VTIMEZONE
TZID:Europe/Berlin
X-LIC-LOCATION:Europe/Berlin
BEGIN:DAYLIGHT
DTSTART:20230326T030000
TZOFFSETFROM:+0100
TZOFFSETTO:+0200
TZNAME:CEST
END:DAYLIGHT
END:VTIMEZONE
END:VCALENDAR