BEGIN:VCALENDAR
VERSION:2.0
PRODID:-//wp-events-plugin.com//6.6.3//EN
TZID:Europe/Berlin
X-WR-TIMEZONE:Europe/Berlin
BEGIN:VEVENT
UID:154@schweizergesellschaft.at
DTSTART;TZID=Europe/Berlin:20251022T183000
DTEND;TZID=Europe/Berlin:20251022T210000
DTSTAMP:20251004T091328Z
URL:https://www.schweizergesellschaft.at/veranstaltungen/kurzvortrag-ausla
 ndschweizer-aktuelle-themen-und-probleme/
SUMMARY:Kurzvortrag: Auslandschweizer - Aktuelle Themen und Probleme
DESCRIPTION:Als Mitglied des Auslandschweizer-Rats (ASR)\, bzw. der Ausland
 schweizerorganisation (http://swisscommunity.org/) informiert Ivo Dürr in
  einem kurzen Vortrag über wichtige Themen und Fragen\, die Auslandschwei
 zer beschäftigen:\n\n 	den Stand des e-Votings für Auslandschweizer\n 	A
 uswandern und Rückwandern (aus der/in die Schweiz)\n 	die Auswirkungen de
 r Sparmaßnahmen des Bundes\n 	der Zugang zu Schweizer Bankdienstleistunge
 n: "Bankenproblematik"\n 	und anderes mehr...\n\nAnschließend laden wir a
 lle Anwesenden zum Apéro ein! Anmeldung mit dem Betreff "Vortrag" und Ang
 abe von Namen und Anzahl Personen an eMail: vorstand@schweizergesellschaft
 .at oder Telefon 0677 / 648 00 531 bitte bis 18. Oktober 2025.
LOCATION:Schweizer Gesellschaft Wien - Clublokal\, Schwindgasse 20\, Wien\,
  1040\, Österreich
X-APPLE-STRUCTURED-LOCATION;VALUE=URI;X-ADDRESS=Schwindgasse 20\, Wien\, 10
 40\, Österreich;X-APPLE-RADIUS=100;X-TITLE=Schweizer Gesellschaft Wien - 
 Clublokal:geo:0,0
END:VEVENT
BEGIN:VTIMEZONE
TZID:Europe/Berlin
X-LIC-LOCATION:Europe/Berlin
BEGIN:DAYLIGHT
DTSTART:20250330T030000
TZOFFSETFROM:+0100
TZOFFSETTO:+0200
TZNAME:CEST
END:DAYLIGHT
END:VTIMEZONE
END:VCALENDAR