BEGIN:VCALENDAR
VERSION:2.0
PRODID:-//wp-events-plugin.com//6.6.3//EN
TZID:Europe/Berlin
X-WR-TIMEZONE:Europe/Berlin
BEGIN:VEVENT
UID:105@schweizergesellschaft.at
DTSTART;TZID=Europe/Berlin:20240708T190000
DTEND;TZID=Europe/Berlin:20240708T220000
DTSTAMP:20240430T100531Z
URL:https://www.schweizergesellschaft.at/veranstaltungen/konzert-des-unter
 grund-quintetts-aus-der-schweiz/
SUMMARY:Konzert des "Untergrund Quintetts" aus der Schweiz
DESCRIPTION:Die innovative und unkonventionelle Musik des „Untergrund-Qui
 ntetts“ des Appenzellers Hans Zellweger bedient die Klischees der Musik 
 aus der Schweiz bewusst nicht\, kommt einmal schmeichelhaft und herzig dah
 er\, wie die Bauernhäuser seiner Heimat\, manchmal schroff und roh wie de
 r Alpstein oder archaisch-urtümlich wie die «Streichmusik» und das «Z
 äuerle». Anschließend gemütliches Beisammensein beim Apéro. Wir freu
 en uns\, dieses spezielle Konzert In Kooperation mit den Stetteldorfer Akz
 entenanbieten zu können! Eintritt: Freie Spende! Begrenzte Teilnehmerzahl
 \, deshalb bitten wir um Anmeldung bis Dienstag\, 2. Juli an Email: vorsta
 nd@schweizergesellschaft.at oder Tel. 0677 648 00 531.
LOCATION:Schweizer Gesellschaft Wien - Clublokal\, Schwindgasse 20\, Wien\,
  1040\, Österreich
X-APPLE-STRUCTURED-LOCATION;VALUE=URI;X-ADDRESS=Schwindgasse 20\, Wien\, 10
 40\, Österreich;X-APPLE-RADIUS=100;X-TITLE=Schweizer Gesellschaft Wien - 
 Clublokal:geo:0,0
END:VEVENT
BEGIN:VTIMEZONE
TZID:Europe/Berlin
X-LIC-LOCATION:Europe/Berlin
BEGIN:DAYLIGHT
DTSTART:20240331T030000
TZOFFSETFROM:+0100
TZOFFSETTO:+0200
TZNAME:CEST
END:DAYLIGHT
END:VTIMEZONE
END:VCALENDAR