BEGIN:VCALENDAR
VERSION:2.0
PRODID:-//wp-events-plugin.com//6.6.3//EN
TZID:Europe/Berlin
X-WR-TIMEZONE:Europe/Berlin
BEGIN:VEVENT
UID:57@schweizergesellschaft.at
DTSTART;TZID=Europe/Berlin:20220629T183000
DTEND;TZID=Europe/Berlin:20220629T223000
DTSTAMP:20220522T075434Z
URL:https://www.schweizergesellschaft.at/veranstaltungen/jiddische-liebesl
 ieder-vom-schtetl-bis-new-york/
SUMMARY:Jiddische Liebeslieder - vom Schtetl bis New York
DESCRIPTION:Leider mussten wir es im April verschieben\, aber nun haben wir
  es wieder im Programm\, das Konzert mit den Jiddischen Liebesliedern\, d
 argeboten von Sängerin Joana Feroh Sternwasser und der Pianist (und Mitg
 lied) Nikos Pogonatos: Sie hören schlichte und ergreifende Lieder aus dem
  "Schtetl"\, Bekanntes aus Musicals und Filmen\, aber auch Jazziges aus de
 m New York der Zwanzigerjahre\, als diese Musik ihre große Glanzzeit hat
 te (und inzwischen wieder mit der "Kletzmermusik" ein großes Revival feie
 rt). Nach dem Konzert laden wir unsere Gäste zu einen "Apéro riche". Fre
 uen Sie sich auf einen ganz besonderen Konzertabend!\n\nDer Eintrittspreis
  beträgt für Mitglieder € 10\,--\, für Nichtmitglieder € 15\,--. Di
 e Anmeldung können Sie ab sofort bis spätestens 25. Juni 2022 entwede
 r gleich unten (Buchung/Anmeldung) vornehmen oder an unsere Email vorstand
 @schweizergesellschaft.at oder aber telefonisch auf unseren Anrufbeantwor
 ter unter Tel. 01/512 62 22 (hier bitte langsam und deutlich sprechen!) mi
 t dem Betreff "Konzert" und Angabe von Namen und Anzahl Personen.\n\n&nbsp
 \;
END:VEVENT
BEGIN:VTIMEZONE
TZID:Europe/Berlin
X-LIC-LOCATION:Europe/Berlin
BEGIN:DAYLIGHT
DTSTART:20220327T030000
TZOFFSETFROM:+0100
TZOFFSETTO:+0200
TZNAME:CEST
END:DAYLIGHT
END:VTIMEZONE
END:VCALENDAR