BEGIN:VCALENDAR
VERSION:2.0
PRODID:-//wp-events-plugin.com//6.6.3//EN
TZID:Europe/Berlin
X-WR-TIMEZONE:Europe/Berlin
BEGIN:VEVENT
UID:106@schweizergesellschaft.at
DTSTART;TZID=Europe/Berlin:20240605T190000
DTEND;TZID=Europe/Berlin:20240605T220000
DTSTAMP:20240530T080909Z
URL:https://www.schweizergesellschaft.at/veranstaltungen/jasse-abend-beim-
 hans/
SUMMARY:Jass-Abend "beim Hans"
DESCRIPTION:Weil wir letztes Mal nur eine kleine Runde von 8 Jassern waren\
 , sind wir kurzerhand vom Clublokal in unser Stammlokal Chamäleon „disl
 oiziert“ – und es sehr viel Spaß gemacht! Alle\, die vorher noch etwa
 s essen möchten\, kommen um 18:00 Uhr\, ab 19:00 Uhr wird gejasst! Wegen 
 des beschränkten Platzes ist eine Anmeldung bis 2. Juni notwendig\, bitte
  an vorstand@schweizergesellschaft.at oder Tel. 0677 648 00 531.
LOCATION:Restaurant Chamäleon\, Blutgasse 3\, Wien\, 1010\, Österreich
X-APPLE-STRUCTURED-LOCATION;VALUE=URI;X-ADDRESS=Blutgasse 3\, Wien\, 1010\,
  Österreich;X-APPLE-RADIUS=100;X-TITLE=Restaurant Chamäleon:geo:0,0
END:VEVENT
BEGIN:VTIMEZONE
TZID:Europe/Berlin
X-LIC-LOCATION:Europe/Berlin
BEGIN:DAYLIGHT
DTSTART:20240331T030000
TZOFFSETFROM:+0100
TZOFFSETTO:+0200
TZNAME:CEST
END:DAYLIGHT
END:VTIMEZONE
END:VCALENDAR