BEGIN:VCALENDAR
VERSION:2.0
PRODID:-//wp-events-plugin.com//6.6.3//EN
TZID:Europe/Berlin
X-WR-TIMEZONE:Europe/Berlin
BEGIN:VEVENT
UID:115@schweizergesellschaft.at
DTSTART;TZID=Europe/Berlin:20241010T190000
DTEND;TZID=Europe/Berlin:20241010T220000
DTSTAMP:20241010T091905Z
URL:https://www.schweizergesellschaft.at/veranstaltungen/jass-abend-dunsch
 tig-jass/
SUMMARY:Jass-Abend - verschoben
DESCRIPTION:Beim letzten „Jassen“ wurde mit viel Einsatz „Schieber“
  von „une-ufe“ bis „obe-abe“ und sogar ein „Match“ auf den Tis
 ch geklopft – und es war einmal mehr ein überaus unterhaltsamer und fr
 eudiger Abend. Beim nächsten Termin laden wir unsere Mitglieder\, die ger
 ne jassen oder es einfach wieder einmal probieren wollen\, in unser Clublo
 kal ein. Für Getränke und einen kleinen Imbiss ist gesorgt. VERSCHOBEN 
 - Ein neuer Termin wird baldmöglichst bekannt gegeben.
LOCATION:Schweizer Gesellschaft Wien - Clublokal\, Schwindgasse 20\, Wien\,
  1040\, Österreich
X-APPLE-STRUCTURED-LOCATION;VALUE=URI;X-ADDRESS=Schwindgasse 20\, Wien\, 10
 40\, Österreich;X-APPLE-RADIUS=100;X-TITLE=Schweizer Gesellschaft Wien - 
 Clublokal:geo:0,0
END:VEVENT
BEGIN:VTIMEZONE
TZID:Europe/Berlin
X-LIC-LOCATION:Europe/Berlin
BEGIN:DAYLIGHT
DTSTART:20240331T030000
TZOFFSETFROM:+0100
TZOFFSETTO:+0200
TZNAME:CEST
END:DAYLIGHT
END:VTIMEZONE
END:VCALENDAR