BEGIN:VCALENDAR
VERSION:2.0
PRODID:-//wp-events-plugin.com//6.6.3//EN
TZID:Europe/Berlin
X-WR-TIMEZONE:Europe/Berlin
BEGIN:VEVENT
UID:65@schweizergesellschaft.at
DTSTART;TZID=Europe/Berlin:20230216T190000
DTEND;TZID=Europe/Berlin:20230216T220000
DTSTAMP:20230209T100536Z
URL:https://www.schweizergesellschaft.at/veranstaltungen/jass-abend-3/
SUMMARY:Jass-Abend
DESCRIPTION:Wir hatten immer wieder anfragen von Mitgliedern und freuen uns
 \, nun nach langer Zeit wieder einen Jass-Abend ankündigen zu können\, 
  zu dem wir alle Mitglieder und Freundinnen und Freunde unsers Vereins\, 
 die gerne jassen - oder es einfach wieder einmal probieren wollen - herzli
 ch in unser Clublokal einladen. Der spielerische Wiedereinstieg in unseren
  "Nationalsport" steht im Vordergrund. Unkostenbeitrag: freie Spende! Eine
  Anmeldung bis 14. Februar ist unbedingt notwendig\, damit wir alles ents
 prechend vorbereiten können - und weil wir nicht unbeschränkt Platz habe
 n! Die Anmeldung bitte per Email an: vorstand@schweizergesellschaft.at ode
 r telefonisch an 0677 648 00 531 unter Angabe von Namen und Anzahl Persone
 n. Bitte auch um einen Hinweis\, ob Sie versierte Jasser\, Gelegenheitsspi
 eler oder "Anfänger" sind.
END:VEVENT
BEGIN:VTIMEZONE
TZID:Europe/Berlin
X-LIC-LOCATION:Europe/Berlin
BEGIN:STANDARD
DTSTART:20221030T020000
TZOFFSETFROM:+0200
TZOFFSETTO:+0100
TZNAME:CET
END:STANDARD
END:VTIMEZONE
END:VCALENDAR