BEGIN:VCALENDAR
VERSION:2.0
PRODID:-//wp-events-plugin.com//6.6.3//EN
TZID:Europe/Berlin
X-WR-TIMEZONE:Europe/Berlin
BEGIN:VEVENT
UID:67@schweizergesellschaft.at
DTSTART;TZID=Europe/Berlin:20230315T193000
DTEND;TZID=Europe/Berlin:20230315T213000
DTSTAMP:20230309T131927Z
URL:https://www.schweizergesellschaft.at/veranstaltungen/informationsabend
 -fuer-eltern-ueber-freizeitangebote-der-stadt-wien/
SUMMARY:Informationsabend für Eltern über Freizeitangebote der Stadt Wien
DESCRIPTION:Was unternehmen mit den Kindern? Was bietet Wien für Jugendlic
 he? Diese Fragen haben sich wohl alle Eltern schon gestellt. Antworten und
  Anregungen dazu gibt unser Vorstandsmitglied und WIENXTRA Mitarbeiterin S
 arah Jagfeld beim Informationsabend für Eltern über Freizeitangebote de
 r Stadt Wien für Kinder\, Jugendliche &amp\; Familien. WIENXTRA gibt ei
 nen Überblick über kostenlose und günstige Freizeitaktivitäten und Ber
 atung für Kinder\, Jugendliche und Familien! Holen Sie sich Ideen für Ih
 re nächsten Aktivitäten mit den "Kids"! Bitte um Anmeldung bis 10. März
  per Email an vorstand@schweizergesellschaft.at oder telefonisch an 0677
  648 00 531 unter Angabe von Namen und Anzahl Teilnehmer. Im Anschluss bit
 ten wir zu einem Apéro.
LOCATION:Schweizer Gesellschaft Wien - Clublokal\, Schwindgasse 20\, Wien\,
  1040\, Österreich
X-APPLE-STRUCTURED-LOCATION;VALUE=URI;X-ADDRESS=Schwindgasse 20\, Wien\, 10
 40\, Österreich;X-APPLE-RADIUS=100;X-TITLE=Schweizer Gesellschaft Wien - 
 Clublokal:geo:0,0
END:VEVENT
BEGIN:VTIMEZONE
TZID:Europe/Berlin
X-LIC-LOCATION:Europe/Berlin
BEGIN:STANDARD
DTSTART:20221030T020000
TZOFFSETFROM:+0200
TZOFFSETTO:+0100
TZNAME:CET
END:STANDARD
END:VTIMEZONE
END:VCALENDAR