BEGIN:VCALENDAR
VERSION:2.0
PRODID:-//wp-events-plugin.com//6.6.3//EN
TZID:Europe/Berlin
X-WR-TIMEZONE:Europe/Berlin
BEGIN:VEVENT
UID:6@schweizergesellschaft.at
DTSTART;TZID=Europe/Berlin:20160925T133000
DTEND;TZID=Europe/Berlin:20160925T133000
DTSTAMP:20161220T204648Z
URL:https://www.schweizergesellschaft.at/veranstaltungen/herbstwanderung-k
 ahlen-leopoldsberg/
SUMMARY:Herbstwanderung Kahlen- & Leopoldsberg
DESCRIPTION:Gerade rechtzeitig zu Beginn eines hoffentlich "goldigen Herbst
 s" begeben wir uns auf die Herbst-Wanderung mit Ivo Dürr.
END:VEVENT
BEGIN:VTIMEZONE
TZID:Europe/Berlin
X-LIC-LOCATION:Europe/Berlin
BEGIN:DAYLIGHT
DTSTART:20160327T030000
TZOFFSETFROM:+0100
TZOFFSETTO:+0200
TZNAME:CEST
END:DAYLIGHT
END:VTIMEZONE
END:VCALENDAR