BEGIN:VCALENDAR
VERSION:2.0
PRODID:-//wp-events-plugin.com//6.6.3//EN
TZID:Europe/Berlin
X-WR-TIMEZONE:Europe/Berlin
BEGIN:VEVENT
UID:77@schweizergesellschaft.at
DTSTART;TZID=Europe/Berlin:20230917T130000
DTEND;TZID=Europe/Berlin:20230917T190000
DTSTAMP:20230914T083947Z
URL:https://www.schweizergesellschaft.at/veranstaltungen/herbst-wanderung/
SUMMARY:Herbst-Wanderung
DESCRIPTION:Die Herbstwanderung am Sonntag\, 17. September 2023 führt dies
 mal in den Osten\, von Wolfsthal über die Königswarte nach Kittsee. Von 
 Wolfsthal\, der letzten Bahnstation vor der Grenze\, gehen wir über den 
 östlichsten Höhenzug Österreichs vorweigend durch lichten Wald bis zur 
 Königswarte mit ihrer weiten Sicht über die Grenze und weiter bis zum Ma
 rillendorf Kittsee\, wo wir (spätestens) Einkehr halten\, bevor es vom Ba
 hnhof Kittsee zurück nach Wien geht. Charakteristik: Gemütliche Wanderun
 g mit leichten Steigungen (ca. 250 Höhenmeter)\, vorweigend Wald-/Feldweg
 e\, zwischendurch alphaltiert. Gehdauer ca. 3 Stunden.\n\nTreffpunkt um 12
 :00 Bahnhof Wien-Mitte (Vorplatz). Rückkehr 19:15 oder 20.15 Wien Hauptba
 hnhof. (Details im Rundschreiben). Bei Schlechtwetter keine Durchführung\
 , bzw. bei Unklarheit am Sonntagvormittag unter der Nummer 0664 201 38 28 
 anrufen. Anmeldung bis 15. September mit dem Stichwort „Wanderung“ unt
 er Angabe von Namen\, Anzahl Personen und einer Telefonnummer an die Email
 : vorstand@schweizergesellschaft.at oder telefonisch an: 0677 648 00 531.\
 n\n 
END:VEVENT
BEGIN:VTIMEZONE
TZID:Europe/Berlin
X-LIC-LOCATION:Europe/Berlin
BEGIN:DAYLIGHT
DTSTART:20230326T030000
TZOFFSETFROM:+0100
TZOFFSETTO:+0200
TZNAME:CEST
END:DAYLIGHT
END:VTIMEZONE
END:VCALENDAR