BEGIN:VCALENDAR
VERSION:2.0
PRODID:-//wp-events-plugin.com//6.6.3//EN
TZID:Europe/Berlin
X-WR-TIMEZONE:Europe/Berlin
BEGIN:VEVENT
UID:69@schweizergesellschaft.at
DTSTART;TZID=Europe/Berlin:20230426T183000
DTEND;TZID=Europe/Berlin:20230426T220000
DTSTAMP:20230325T123400Z
URL:https://www.schweizergesellschaft.at/veranstaltungen/generalversammlun
 g-2023/
SUMMARY:Generalversammlung 2023
DESCRIPTION:Vorankündigung: Wir laden unsere Mitglieder zur ordentlichen G
 eneralversammlung 2023 ein. Details folgen mit dem Rundschreiben.
LOCATION:Schweizer Gesellschaft Wien - Clublokal\, Schwindgasse 20\, Wien\,
  1040\, Österreich
X-APPLE-STRUCTURED-LOCATION;VALUE=URI;X-ADDRESS=Schwindgasse 20\, Wien\, 10
 40\, Österreich;X-APPLE-RADIUS=100;X-TITLE=Schweizer Gesellschaft Wien - 
 Clublokal:geo:0,0
END:VEVENT
BEGIN:VTIMEZONE
TZID:Europe/Berlin
X-LIC-LOCATION:Europe/Berlin
BEGIN:DAYLIGHT
DTSTART:20230326T030000
TZOFFSETFROM:+0100
TZOFFSETTO:+0200
TZNAME:CEST
END:DAYLIGHT
END:VTIMEZONE
END:VCALENDAR