BEGIN:VCALENDAR
VERSION:2.0
PRODID:-//wp-events-plugin.com//6.6.3//EN
TZID:Europe/Berlin
X-WR-TIMEZONE:Europe/Berlin
BEGIN:VEVENT
UID:28@schweizergesellschaft.at
DTSTART;TZID=Europe/Berlin:20190312T183000
DTEND;TZID=Europe/Berlin:20190312T183000
DTSTAMP:20190415T144816Z
URL:https://www.schweizergesellschaft.at/veranstaltungen/generalversammlun
 g-2019/
SUMMARY:Generalversammlung 2019
DESCRIPTION:[foogallery id="512"]\n\n\n\nWir laden Sie herzlich ein zu unse
 rer\n131. ORDENTLICHEN GENERALVERSAMMLUNG\nZuerst offerieren wir Ihnen ein
 en Aperitif.\nUm 19.00 Uhr werden\, unabhängig von der Anzahl der stimmbe
 rechtigten Mitglieder\, folgende Traktanden abgehandelt:\n\n 	Begrüssung\
 , Feststellung der Stimmberechtigten\n 	Protokoll der 129. Generalversamml
 ung vom 14. März 2018\n 	Berichte des Vorstandes\, des Kassiers und der R
 echnungsrevisoren\n 	Beschlussfassung und Décharge\n 	Neuwahl des Präsid
 iums und des Vorstandes und der Revisoren\n 	Festsetzung der Mitgliedsbeit
 räge\n 	Varia und allfällige Anträge\n\nStatutengemäss sind Anträge z
 ur Generalversammlung schriftlich bis zum 6. März 2019 einzureichen. Mitg
 lieder\, die sich für Einzelheiten des Kassaberichtes interessieren\, kö
 nnen sich vor der Generalversammlung informieren.\n\nUnser Botschafter\, H
 err Walter Haffner hat sich bereit erklärt\, die Wahlleitung zu übernehm
 en\, und aus Anlass unserer Generalversammlung zu uns zu sprechen. Der Abe
 nd wird mit einem gemeinsamen Essen abgeschlossen\, zu dem wir Sie einlade
 n. Wir bitten Sie bis Montag\, 11. März 2019 um Anmeldung auf unserem Anr
 ufbeantworter (01/512 62 22) oder per e-mail: vorstand@schweizergesellscha
 ft.at\n\nMit freundlichen Grüssen\nSCHWEIZER GESELLSCHAFT WIEN\nfür den 
 Vorstand Anita Gut (Präsidentin)
LOCATION:Clublokal\, Schwindgasse 20\, Wien\, 1040\, Österreich
GEO:48.1969687;16.37222040000006
X-APPLE-STRUCTURED-LOCATION;VALUE=URI;X-ADDRESS=Schwindgasse 20\, Wien\, 10
 40\, Österreich;X-APPLE-RADIUS=100;X-TITLE=Clublokal:geo:48.1969687,16.37
 222040000006
END:VEVENT
BEGIN:VTIMEZONE
TZID:Europe/Berlin
X-LIC-LOCATION:Europe/Berlin
BEGIN:STANDARD
DTSTART:20181028T020000
TZOFFSETFROM:+0200
TZOFFSETTO:+0100
TZNAME:CET
END:STANDARD
END:VTIMEZONE
END:VCALENDAR