BEGIN:VCALENDAR
VERSION:2.0
PRODID:-//wp-events-plugin.com//6.6.3//EN
TZID:Europe/Berlin
X-WR-TIMEZONE:Europe/Berlin
BEGIN:VEVENT
UID:24@schweizergesellschaft.at
DTSTART;TZID=Europe/Berlin;VALUE=DATE:20181110
DTEND;TZID=Europe/Berlin;VALUE=DATE:20181111
DTSTAMP:20180810T135421Z
URL:https://www.schweizergesellschaft.at/veranstaltungen/galaabend-zum-150
 -geburtstag-der-schweizer-gesellschaft-wien/
SUMMARY:Galaabend zum 150.Geburtstag der Schweizer Gesellschaft Wien
DESCRIPTION:Zur Feier unseres 150-jährigen Jubiläums laden wir sie alle e
 in\, sich den 10.November 2018 im Kalender zu markieren. Wir freuen uns sc
 hon auf einen festlichen Abend im Grand Hotel Wien.\n\nWeitere Infos zu An
 meldung und Ablauf folgen in Kürze!
LOCATION:Grand Hotel Wien\, Kärntner Ring 9\, Wien\, 1010\, Österreich
GEO:48.2021133;16.372135699999944
X-APPLE-STRUCTURED-LOCATION;VALUE=URI;X-ADDRESS=Kärntner Ring 9\, Wien\, 1
 010\, Österreich;X-APPLE-RADIUS=100;X-TITLE=Grand Hotel Wien:geo:48.20211
 33,16.372135699999944
END:VEVENT
BEGIN:VTIMEZONE
TZID:Europe/Berlin
X-LIC-LOCATION:Europe/Berlin
BEGIN:STANDARD
DTSTART:20181028T020000
TZOFFSETFROM:+0200
TZOFFSETTO:+0100
TZNAME:CET
END:STANDARD
END:VTIMEZONE
END:VCALENDAR