BEGIN:VCALENDAR
VERSION:2.0
PRODID:-//wp-events-plugin.com//6.6.3//EN
TZID:Europe/Berlin
X-WR-TIMEZONE:Europe/Berlin
BEGIN:VEVENT
UID:49@schweizergesellschaft.at
DTSTART;TZID=Europe/Berlin:20220612T120000
DTEND;TZID=Europe/Berlin:20220612T200000
DTSTAMP:20220522T090952Z
URL:https://www.schweizergesellschaft.at/veranstaltungen/fruehjahrs-wander
 ung/
SUMMARY:Frühjahrs-Wanderung auf dem Wiener Wasserleitungsweg
DESCRIPTION:Gerade noch im Frühjahr treffen wir uns mit unserem "Wanderfü
 hrer" Ivo Dürr bei der Oper und fahren mit der Badener Bahn zum landschaf
 tlich schönen "Wasserleitungsweg"\, wo wir durch malerische Weinberge vor
 bei an wenig bekannten Sehenswürdigkeiten und dem einen oder anderen Wein
 garten-Heurigen bis Gumpoldskirchen und (wenn es Kondition und Wetter erla
 uben) weiter bis zum Weinort Pfaffstätten wandern. Und wir werden selbstv
 erständlich bei einem Heurigen einkehren\, um uns zu stärken. Charakteri
 stik: Gemütliche Wanderung mit geringen Steigungen\, vorwiegend über unb
 efestigte Wanderwege\, sonnig (wenig Schatten!). Gehdauer: je nach Variant
 e 2 - 3 Stunden. Ausrüstung: festes Schuhwerk/leichte Wanderschuhe\, Sonn
 enschutz\, ev. Regenschutz und ein Getränk (spez. f. Kinder). Achtung: Z
 eckengebiet! Bei Regen oder Gewitter wird die Wanderung nicht durchgeführ
 t. Sollte es extrem heiß sein\, wird die Route ev. variiert. Treffpunkt 
 ist 12 Uhr (pünktlich) bei der Oper\, Haltestelle der Badener Bahn. Weite
 re Details im Juni-Rundschreiben. Anmeldung ab sofort bis spätestens 10
 . Juni 2022 entweder gleich unten (Buchung/Anmeldung) oder an unsere Emai
 l vorstand@schweizergesellschaft.at \, allenfalls telefonisch auf unseren
  Anrufbeantworter unter Tel. 01/512 62 22 (hier bitte langsam und deutlich
  sprechen! mit dem Betreff "Wanderung" unter Angabe von Namen und Anzahl P
 ersonen und einer Handynummer (für Notfälle).
END:VEVENT
BEGIN:VTIMEZONE
TZID:Europe/Berlin
X-LIC-LOCATION:Europe/Berlin
BEGIN:DAYLIGHT
DTSTART:20220327T030000
TZOFFSETFROM:+0100
TZOFFSETTO:+0200
TZNAME:CEST
END:DAYLIGHT
END:VTIMEZONE
END:VCALENDAR