BEGIN:VCALENDAR
VERSION:2.0
PRODID:-//wp-events-plugin.com//6.6.3//EN
TZID:Europe/Berlin
X-WR-TIMEZONE:Europe/Berlin
BEGIN:VEVENT
UID:100@schweizergesellschaft.at
DTSTART;TZID=Europe/Berlin:20240421T130000
DTEND;TZID=Europe/Berlin:20240421T180000
DTSTAMP:20240419T183209Z
URL:https://www.schweizergesellschaft.at/veranstaltungen/fruehjahrs-wander
 ung-ueber-den-laaer-berg/
SUMMARY:Frühjahrs-Wanderung über den Laaer-Berg (verschoben)
DESCRIPTION:Das Frühjahr war noch nie so früh - so dachten wir! WEIL sich
  das Frühjahr aber  leider wieder zurückgezogen hat und fast winterlich
 e Verhältnisse herrschen\, warten wir mit der „Frühjahrs-Wanderung“ 
 auf besseres und vor allem wärmeres Wetter! Der Laaer Berg und Oberlaa m
 üssen also etwas warten..... Wir informieren zeitgerecht!
END:VEVENT
BEGIN:VTIMEZONE
TZID:Europe/Berlin
X-LIC-LOCATION:Europe/Berlin
BEGIN:DAYLIGHT
DTSTART:20240331T030000
TZOFFSETFROM:+0100
TZOFFSETTO:+0200
TZNAME:CEST
END:DAYLIGHT
END:VTIMEZONE
END:VCALENDAR