BEGIN:VCALENDAR
VERSION:2.0
PRODID:-//wp-events-plugin.com//6.6.3//EN
TZID:Europe/Berlin
X-WR-TIMEZONE:Europe/Berlin
BEGIN:VEVENT
UID:142@schweizergesellschaft.at
DTSTART;TZID=Europe/Berlin:20250525T130000
DTEND;TZID=Europe/Berlin:20250525T190000
DTSTAMP:20250520T095138Z
URL:https://www.schweizergesellschaft.at/veranstaltungen/fruehahrs-wanderu
 ng-ersatztermin/
SUMMARY:Frühjahrs-Wanderung (Ersatztermin)
DESCRIPTION:Die Absage der Wanderung am 18. Mai war bedauerlich\, aber rich
 tig\, denn das nass-kalt-windige Wetter wäre alles andere als angenehm ge
 wesen. Für den Ersatztermin sehen die Prognosen besser aus. Weil aber das
  Wanderziel der Donauauen generell "nässeanfällig" ist\, behält sich un
 ser Wanderführer eine alternative Route vor. Ansonsten bleibt aber alles 
 gleich: Treffpunkt Bahnhof Wien Mitte (Vorplatz)\, um 13 Uhr\, von wo wir 
 mit der S-Bahn in gut 45 Minuten zum Ausgangspunkt fahren. Wer sich noch n
 icht angemeldet hat\, bitte bis 22. Mai an vorstand@schweizergesellschaft.
 at oder unter Tel. 0677 648 00 531.
END:VEVENT
BEGIN:VTIMEZONE
TZID:Europe/Berlin
X-LIC-LOCATION:Europe/Berlin
BEGIN:DAYLIGHT
DTSTART:20250330T030000
TZOFFSETFROM:+0100
TZOFFSETTO:+0200
TZNAME:CEST
END:DAYLIGHT
END:VTIMEZONE
END:VCALENDAR