BEGIN:VCALENDAR
VERSION:2.0
PRODID:-//wp-events-plugin.com//6.6.3//EN
TZID:Europe/Berlin
X-WR-TIMEZONE:Europe/Berlin
BEGIN:VEVENT
UID:43@schweizergesellschaft.at
DTSTART;TZID=Europe/Berlin:20211118T190000
DTEND;TZID=Europe/Berlin:20211118T230000
DTSTAMP:20211116T083114Z
URL:https://www.schweizergesellschaft.at/veranstaltungen/fondue-essen/
SUMMARY:Fondue-Essen
DESCRIPTION:Es ist einer unserer "Hits"\, das traditionelle Fondue-Essen in
  unserem Clublokal. Hier zeigt sich\, dass der alte Spruch "Fondue isch gu
 et und git gueti Luune" einfach stimmt. Es ist daher kein Wunder\, dass di
 e rund 50 verfügbaren Plätze jedesmal innerhalb kurzer Zeit ausgebucht s
 ind.\n\nABGESAGT (leider)\, aufgrund der verschärften Corona-Situation!
LOCATION:Clublokal\, Schwindgasse 20\, Wien\, 1040\, Österreich
X-APPLE-STRUCTURED-LOCATION;VALUE=URI;X-ADDRESS=Schwindgasse 20\, Wien\, 10
 40\, Österreich;X-APPLE-RADIUS=100;X-TITLE=Clublokal:geo:0,0
END:VEVENT
BEGIN:VTIMEZONE
TZID:Europe/Berlin
X-LIC-LOCATION:Europe/Berlin
BEGIN:STANDARD
DTSTART:20211031T020000
TZOFFSETFROM:+0200
TZOFFSETTO:+0100
TZNAME:CET
END:STANDARD
END:VTIMEZONE
END:VCALENDAR