BEGIN:VCALENDAR
VERSION:2.0
PRODID:-//wp-events-plugin.com//6.6.3//EN
TZID:Europe/Berlin
X-WR-TIMEZONE:Europe/Berlin
BEGIN:VEVENT
UID:54@schweizergesellschaft.at
DTSTART;TZID=Europe/Berlin:20221117T190000
DTEND;TZID=Europe/Berlin:20221117T230000
DTSTAMP:20221103T111807Z
URL:https://www.schweizergesellschaft.at/veranstaltungen/fondue-essen-2/
SUMMARY:Fondue-Essen am 17. November 2022
DESCRIPTION:Nach zwei Jahren Zwangspause freuen wir uns\, Sie zum Fondue-E
 ssen am Donnerstag\, 17. November 2022\, um 19:00 Uhr in unser Clublokal
  in der Schwindgasse 20\, 1040 Wien\, einzuladen. Unser Fondue-Team wird 
 sich bemühen\, "a gluschtig's" Käsefondue zuzubereiten\, damit sich der 
 Spruch "Fondue isch guet und git gueti Luune" einmal mehr bewahrheitet. Un
 d dank "Sponsoring" durch EMMI ist der Kostenbeitrag für das Fondue mit d
 en Beilagen gleich wie vor drei Jahren (!)\, nämlich nur € 10\,-- für 
 Mitglieder\, bzw. € 15\,-- für Nichtmitglieder. Die Getränke sind extr
 a zu bezahlen.\n\nAchtung: Wir können max. 50 Personen bewirten! Wir brau
 chen deshalb Ihre verbindliche Anmeldung mit dem Stichwort"Fondue" bis 10.
  November (aber je früher\, desto besser\, denn das "Fondue" ist immer se
 hr schnell ausgebucht) vorzugsweise per Email an vorstand@schweizergesell
 schaft.at oder telefonisch unter Tel. 0677 648 00 531 (temporäre Telefon
 nummer nur für diese Veranstaltungen).
LOCATION:Schweizer Gesellschaft Wien - Clublokal\, Schwindgasse 20\, Wien\,
  1040\, Österreich
X-APPLE-STRUCTURED-LOCATION;VALUE=URI;X-ADDRESS=Schwindgasse 20\, Wien\, 10
 40\, Österreich;X-APPLE-RADIUS=100;X-TITLE=Schweizer Gesellschaft Wien - 
 Clublokal:geo:0,0
END:VEVENT
BEGIN:VTIMEZONE
TZID:Europe/Berlin
X-LIC-LOCATION:Europe/Berlin
BEGIN:STANDARD
DTSTART:20221030T020000
TZOFFSETFROM:+0200
TZOFFSETTO:+0100
TZNAME:CET
END:STANDARD
END:VTIMEZONE
END:VCALENDAR