BEGIN:VCALENDAR
VERSION:2.0
PRODID:-//wp-events-plugin.com//6.6.3//EN
TZID:Europe/Berlin
X-WR-TIMEZONE:Europe/Berlin
BEGIN:VEVENT
UID:13@schweizergesellschaft.at
DTSTART;TZID=Europe/Berlin:20171114T180000
DTEND;TZID=Europe/Berlin:20171114T220000
DTSTAMP:20171028T102152Z
URL:https://www.schweizergesellschaft.at/veranstaltungen/fondue-abig/
SUMMARY:Fondue Abig
DESCRIPTION:\n\n\n\nWir laden Sie zu unserem beliebten Fondue-Abend in unse
 r Clublokal ein!\n\nUnser bewährtes Fondue-Team wird für Sie ein herrlic
 hes Käsefondue zubereiten und George Purgly ist bereit\, seine rote Schü
 rze wieder anzuziehen\, um seine berühmten Achter zu rühren. Wir freuen 
 uns schon auf einen gemütlichen Abend mit Ihnen.\nDeswegen - ja nicht das
  Fondue verpassen!\n\nDer Unkostenbeitrag für diesen Abend fürs Fondue m
 it allem Drum und Dran beträgt: Mitglieder: € 10.- Nichtmitglieder: €
  13.-\nGetränke werden extra verrechnet.\nMaximale Personenanzahl: 50 Per
 sonen\n\nUm Ihre verbindliche Anmeldung bitten wir bis spätestens 10. Nov
 ember 2017\n\nper Telefon auf unseren Anrufbeantworter (01-512 62 22) oder
  per E-mail an vorstand@schweizergesellschaft.at. Bitte teilen Sie uns Ihr
 en Namen\, Ihre Telefonnummer und die Anzahl der Personen mit.\n\n\n\n\n\n
 \nWir freuen uns auf Ihre rege Teilnahme am Fondue-Abend.\n\n\n\n
ATTACH;FMTTYPE=image/jpeg:https://www.schweizergesellschaft.at/wp-content/
 uploads/2017/10/fondue.jpg
LOCATION:Clublokal\, Schwindgasse 20\, Wien\, 1040\, Österreich
GEO:48.1969687;16.37222040000006
X-APPLE-STRUCTURED-LOCATION;VALUE=URI;X-ADDRESS=Schwindgasse 20\, Wien\, 10
 40\, Österreich;X-APPLE-RADIUS=100;X-TITLE=Clublokal:geo:48.1969687,16.37
 222040000006
END:VEVENT
BEGIN:VTIMEZONE
TZID:Europe/Berlin
X-LIC-LOCATION:Europe/Berlin
BEGIN:STANDARD
DTSTART:20171029T020000
TZOFFSETFROM:+0200
TZOFFSETTO:+0100
TZNAME:CET
END:STANDARD
END:VTIMEZONE
END:VCALENDAR