BEGIN:VCALENDAR
VERSION:2.0
PRODID:-//wp-events-plugin.com//6.6.3//EN
TZID:Europe/Berlin
X-WR-TIMEZONE:Europe/Berlin
BEGIN:VEVENT
UID:15@schweizergesellschaft.at
DTSTART;TZID=Europe/Berlin:20171123T164500
DTEND;TZID=Europe/Berlin:20171123T180000
DTSTAMP:20171210T203802Z
URL:https://www.schweizergesellschaft.at/veranstaltungen/ferdinand-hodler-
 im-leopoldmuseum/
SUMMARY:Ferdinand HODLER im Leopoldmuseum
DESCRIPTION:\n\n\n\nWahlverwandtschaften von Klimt bis Schiele\nSeit seinem
  durchschlagenden Erfolg auf der Secessionsausstellung 1904 präsentiert d
 as Leopold Museum die bislang umfangreichste Retrospektive zu Ferdinand Ho
 dler (1853–1918) in Österreich. Als Exponent von Symbolismus und Jugend
 stil\, als Wegbereiter des Expressionismus und nicht zuletzt als Erneuerer
  der Monumentalmalerei\, war Hodler wichtiger Impulsgeber für zahlreiche 
 Künstler der Wiener Moderne wie Gustav Klimt und Koloman Moser\, aber auc
 h Oskar Kokoschka und Egon Schiele. Die Schau präsentiert die drei große
 n Themen Hodlers: Landschaften von Pleinairmalerei bis zur Abstraktion\, P
 orträts mit Fokus auf Frauendarstellungen\, Selbstbildnisse und die eindr
 ingliche Werkgruppe\, welche das Sterben von Hodlers Geliebten Valentine G
 odé-Darel begleitet\, sowie seine bedeutenden symbolistischen Figurenkomp
 ositionen.\n\n\n\n\n\n\n&nbsp\;\n\nDonnerstag\, 23. November 2017 um 17:00
  Uhr\n\n\n\n\n\n\nTreffpunkt: 16:45h in der Eingangshalle des Leopoldmuseu
 m bei der Kassa\n\nFührung: 17:00h p/Pers. 9\,50 € mind. 10 Personen (F
 ührungstarif 95.- €)\n\nEintritt: p/Pers. 10\, – € Gruppentarif\n\n
 \n\n\n\n\nWir freuen uns auf Ihre rege Teilnahme!\n\nAnmeldung unbedingt b
 is spätestens 17. November: Telefon (01-512 62 22) oder an die E-mail- Ad
 resse vorstand@schweizergesellschaft.at. Bitte um deutliche Angabe Ihres N
 amens\, der Anzahl der Personen und Ihrer Telefon-Nummer.\n\n\n\n\n\n\n
ATTACH;FMTTYPE=image/jpeg:https://www.schweizergesellschaft.at/wp-content/
 uploads/2017/10/HodlerFerdinand.jpg
LOCATION:Leopoldmuseum\, Museumsplatz 1\, Wien\, 1070\, Österreich
GEO:48.20319480000001;16.358633999999938
X-APPLE-STRUCTURED-LOCATION;VALUE=URI;X-ADDRESS=Museumsplatz 1\, Wien\, 107
 0\, Österreich;X-APPLE-RADIUS=100;X-TITLE=Leopoldmuseum:geo:48.2031948000
 0001,16.358633999999938
END:VEVENT
BEGIN:VTIMEZONE
TZID:Europe/Berlin
X-LIC-LOCATION:Europe/Berlin
BEGIN:STANDARD
DTSTART:20171029T020000
TZOFFSETFROM:+0200
TZOFFSETTO:+0100
TZNAME:CET
END:STANDARD
END:VTIMEZONE
END:VCALENDAR