BEGIN:VCALENDAR
VERSION:2.0
PRODID:-//wp-events-plugin.com//6.6.3//EN
TZID:Europe/Berlin
X-WR-TIMEZONE:Europe/Berlin
BEGIN:VEVENT
UID:160@schweizergesellschaft.at
DTSTART;TZID=Europe/Berlin:20251207T153000
DTEND;TZID=Europe/Berlin:20251207T180000
DTSTAMP:20251029T110137Z
URL:https://www.schweizergesellschaft.at/veranstaltungen/der-samichlaus/
SUMMARY:Der "Samichlaus"
DESCRIPTION:Und wieder einmal kommt unser Samichlaus aus der Schweiz\, mit 
 seinem goldenen Buch und dem großen Sack mit (hoffentlich) vielen „Chla
 ussäckli“ für die Kinder. Ob er diesmal den "Schmutzli" mitbringt oder
  doch wieder das liebe "Engeli"? Jedenfalls ist er bereits neugierig\, wie
  viele Kinder dieses Jahr kommen und ihm vielleicht ein Lied vorsingen\, e
 in „Versli“ aufsagen oder auf einem Instrument etwas vorspielen werden
  (ein Flügel steht bereit)? Auch dieses Jahr wird es für alle zur Stär
 kung „Wienerli“ und guten\, selbstgebrauten Punsch geben.\nAn die Elte
 rn: Schreibt bitte in die Anmeldung nicht nur Anzahl\, Namen und Alter (!)
  der Kinder (und natürlich\, wie viele Erwachsene) sondern auch\, was der
  Samichlaus zu den Kindern sagen soll: Wo waren sie „brav“ und wo weni
 ger? Die Beschreibung soll kurz sein. Ein Satz (vor allem) mit Positivem u
 nd (vielleicht) ein Satz mit dem „Negativen“ genügen. Bitte die Anmel
 dung mit diesen Informationen per Email an vorstand@schweizergesellschaft.
 at bis 3. Dezember 2024 schicken!
LOCATION:Schweizer Gesellschaft Wien - Clublokal\, Schwindgasse 20\, Wien\,
  1040\, Österreich
X-APPLE-STRUCTURED-LOCATION;VALUE=URI;X-ADDRESS=Schwindgasse 20\, Wien\, 10
 40\, Österreich;X-APPLE-RADIUS=100;X-TITLE=Schweizer Gesellschaft Wien - 
 Clublokal:geo:0,0
END:VEVENT
BEGIN:VTIMEZONE
TZID:Europe/Berlin
X-LIC-LOCATION:Europe/Berlin
BEGIN:STANDARD
DTSTART:20251026T020000
TZOFFSETFROM:+0200
TZOFFSETTO:+0100
TZNAME:CET
END:STANDARD
END:VTIMEZONE
END:VCALENDAR