BEGIN:VCALENDAR
VERSION:2.0
PRODID:-//wp-events-plugin.com//6.6.3//EN
TZID:Europe/Berlin
X-WR-TIMEZONE:Europe/Berlin
BEGIN:VEVENT
UID:4@schweizergesellschaft.at
DTSTART;TZID=Europe/Berlin:20161204T153000
DTEND;TZID=Europe/Berlin:20161204T153000
DTSTAMP:20161220T203702Z
URL:https://www.schweizergesellschaft.at/veranstaltungen/de-samichlaus-chu
 nt/
SUMMARY:De Samichlaus chunt
DESCRIPTION:Der Samichlaus kommt mit dem Schmutzli\, seinem goldenen Buch u
 nd dem grossen Sack und hofft\, wieder viele anzutreffen. Es werden einige
  Überraschungen auf die Kinder warten und der Schmutzli hat versprochen 
 – wie immer - ganz lieb zu sein!
LOCATION:Clublokal\, Schwindgasse 20\, Wien\, 1040\, Österreich
GEO:48.1969687;16.37222040000006
X-APPLE-STRUCTURED-LOCATION;VALUE=URI;X-ADDRESS=Schwindgasse 20\, Wien\, 10
 40\, Österreich;X-APPLE-RADIUS=100;X-TITLE=Clublokal:geo:48.1969687,16.37
 222040000006
END:VEVENT
BEGIN:VTIMEZONE
TZID:Europe/Berlin
X-LIC-LOCATION:Europe/Berlin
BEGIN:STANDARD
DTSTART:20161030T020000
TZOFFSETFROM:+0200
TZOFFSETTO:+0100
TZNAME:CET
END:STANDARD
END:VTIMEZONE
END:VCALENDAR