BEGIN:VCALENDAR
VERSION:2.0
PRODID:-//wp-events-plugin.com//6.6.3//EN
TZID:Europe/Berlin
X-WR-TIMEZONE:Europe/Berlin
BEGIN:VEVENT
UID:156@schweizergesellschaft.at
DTSTART;TZID=Europe/Berlin:20251114T190000
DTEND;TZID=Europe/Berlin:20251114T220000
DTSTAMP:20251029T104528Z
URL:https://www.schweizergesellschaft.at/veranstaltungen/das-fondue/
SUMMARY:Das "Fondue"
DESCRIPTION:Schon jetzt haben wir einige Anmeldungen\, denn unser "Fondue i
 sch guet und git gueti Luune"! Der Unkostenbeitrag für das Fondue beträg
 t € 10\,-- pro Person für Mitglieder\, € 15\,-- für Nichtmitglieder 
 (exklusive Getränke). Der Betrag wird an der Abendkasse erhoben. Es sieht
  auch diesmal nach einem "vollen Haus" aus\, deshalb raten wir zu einer m
 öglichst baldigen Anmeldung\, um sicher noch einen Platz zu bekommen\, un
 d zwar an: vorstand@schweizergesellschaft.at oder Tel: 0677 648 00 531.
LOCATION:Clublokal\, Schwindgasse 20\, Wien\, 1040\, Österreich
GEO:48.1969687;16.37222040000006
X-APPLE-STRUCTURED-LOCATION;VALUE=URI;X-ADDRESS=Schwindgasse 20\, Wien\, 10
 40\, Österreich;X-APPLE-RADIUS=100;X-TITLE=Clublokal:geo:48.1969687,16.37
 222040000006
END:VEVENT
BEGIN:VTIMEZONE
TZID:Europe/Berlin
X-LIC-LOCATION:Europe/Berlin
BEGIN:STANDARD
DTSTART:20251026T020000
TZOFFSETFROM:+0200
TZOFFSETTO:+0100
TZNAME:CET
END:STANDARD
END:VTIMEZONE
END:VCALENDAR