BEGIN:VCALENDAR
VERSION:2.0
PRODID:-//wp-events-plugin.com//6.6.3//EN
TZID:Europe/Berlin
X-WR-TIMEZONE:Europe/Berlin
BEGIN:VEVENT
UID:27@schweizergesellschaft.at
DTSTART;TZID=Europe/Berlin:20190303T110000
DTEND;TZID=Europe/Berlin:20190303T140000
DTSTAMP:20190306T200454Z
URL:https://www.schweizergesellschaft.at/veranstaltungen/brunch/
SUMMARY:Brunch
DESCRIPTION:Am 3.März 2019 fand im Clublokal unser erster Brunch statt. Mi
 t vielen BesucherInnen und noch mehr Auswahl am Buffet ein voller Erfolg!\
 n\nDabei auch ein Danke an alle\, die ihre mitgebrachten Speisen mit uns g
 eteilt haben. Gerüchten zufolge\, fiel bei manchen sogar das Abendessen a
 us 😉\n\n[foogallery id="497"]
ATTACH;FMTTYPE=image/jpeg:https://www.schweizergesellschaft.at/wp-content/
 uploads/2019/01/Zopf.jpg
LOCATION:Clublokal\, Schwindgasse 20\, Wien\, 1040\, Österreich
GEO:48.1969687;16.37222040000006
X-APPLE-STRUCTURED-LOCATION;VALUE=URI;X-ADDRESS=Schwindgasse 20\, Wien\, 10
 40\, Österreich;X-APPLE-RADIUS=100;X-TITLE=Clublokal:geo:48.1969687,16.37
 222040000006
END:VEVENT
BEGIN:VTIMEZONE
TZID:Europe/Berlin
X-LIC-LOCATION:Europe/Berlin
BEGIN:STANDARD
DTSTART:20181028T020000
TZOFFSETFROM:+0200
TZOFFSETTO:+0100
TZNAME:CET
END:STANDARD
END:VTIMEZONE
END:VCALENDAR